BEGIN:VCALENDAR
VERSION:2.0
METHOD:PUBLISH
X-WR-CALNAME:wwuh.org |  February 19 2024- February 26 2024
PRODID:-//strange bird labs//Drupal iCal API//EN
BEGIN:VEVENT
DTSTAMP;VALUE=DATE-TIME:20260419T183844Z
DTSTART;VALUE=DATE-TIME:20240225T090000Z
DTEND;VALUE=DATE-TIME:20240225T123000Z
UID:https://wwuh.org/004103-sunday-afternoon-opera-vivaldi-juditha-triumphans
URL;VALUE=URI:https://wwuh.org/004103-sunday-afternoon-opera-vivaldi-juditha-triumphans
SUMMARY:Sunday Afternoon at the Opera - Vivaldi\: Juditha Triumphans
DESCRIPTION:<p>&nbsp\;</p>
 <p><em>Sunday Afternoon at the Opera</em> host Keith Brown writes\:</p>
 
END:VEVENT
BEGIN:VEVENT
DTSTAMP;VALUE=DATE-TIME:20260419T183844Z
DTSTART;VALUE=DATE-TIME:20240225T123000Z
DTEND;VALUE=DATE-TIME:20240225T130000Z
UID:https://wwuh.org/004104-amazing-tales-ct-bell-town
URL;VALUE=URI:https://wwuh.org/004104-amazing-tales-ct-bell-town
SUMMARY:Amazing Tales from CT\: Bell Town
DESCRIPTION:<p>We encourage you to tune in to our newest program\, Amazing Tales from Off and On Connecticut&#39\;s Beaten Path\, which airs Sunday afternoons at 4\:30 right after the Opera.</p>
 
END:VEVENT
END:VCALENDAR
