BEGIN:VCALENDAR
VERSION:2.0
METHOD:PUBLISH
X-WR-CALNAME:wwuh.org |  January 08 2024- February 07 2024
PRODID:-//strange bird labs//Drupal iCal API//EN
BEGIN:VEVENT
DTSTAMP;VALUE=DATE-TIME:20260419T171039Z
DTSTART;VALUE=DATE-TIME:20240114T090000Z
DTEND;VALUE=DATE-TIME:20240114T123000Z
UID:https://wwuh.org/004089-sunday-afternoon-opera-schubert-die-winterreise
URL;VALUE=URI:https://wwuh.org/004089-sunday-afternoon-opera-schubert-die-winterreise
SUMMARY:Sunday Afternoon at the Opera - Schubert\: Die Winterreise
DESCRIPTION:<p>&nbsp\;</p>
 <p><em>Sunday Afternoon at the Opera</em> host Keith Brown writes\:</p>
 
END:VEVENT
BEGIN:VEVENT
DTSTAMP;VALUE=DATE-TIME:20260419T171039Z
DTSTART;VALUE=DATE-TIME:20240114T123000Z
DTEND;VALUE=DATE-TIME:20240114T130000Z
UID:https://wwuh.org/004093-amazing-tales-ct-stagecoaches-trollies-etc
URL;VALUE=URI:https://wwuh.org/004093-amazing-tales-ct-stagecoaches-trollies-etc
SUMMARY:Amazing Tales from CT\: Stagecoaches\, Trollies\, etc.
DESCRIPTION:<div>
 	We encourage you to tune in to our newest program\, Amazing Tales from Off and On Connecticut&#39\;s Beaten Path\, which airs Sunday afternoons at 4\:30 right after the Opera.</div>
 <div>
 	&nbsp\;</div>
 <div>
 </div>
END:VEVENT
BEGIN:VEVENT
DTSTAMP;VALUE=DATE-TIME:20260419T171039Z
DTSTART;VALUE=DATE-TIME:20240121T090000Z
DTEND;VALUE=DATE-TIME:20240121T123000Z
UID:https://wwuh.org/004090-sunday-afternoon-opera-partch-delusion-fury
URL;VALUE=URI:https://wwuh.org/004090-sunday-afternoon-opera-partch-delusion-fury
SUMMARY:Sunday Afternoon at the Opera - Partch\: Delusion of the Fury
DESCRIPTION:<p>&nbsp\;</p>
 <p><em>Sunday Afternoon at the Opera</em> host Keith Brown writes\:</p>
 
END:VEVENT
BEGIN:VEVENT
DTSTAMP;VALUE=DATE-TIME:20260419T171039Z
DTSTART;VALUE=DATE-TIME:20240121T123000Z
DTEND;VALUE=DATE-TIME:20240121T130000Z
UID:https://wwuh.org/004094-amazing-tales-ct-whispering-giants
URL;VALUE=URI:https://wwuh.org/004094-amazing-tales-ct-whispering-giants
SUMMARY:Amazing Tales from CT\: Whispering Giants
DESCRIPTION:<div>
 	We encourage you to tune in to our newest program\, Amazing Tales from Off and On Connecticut&#39\;s Beaten Path\, which airs Sunday afternoons at 4\:30 right after the Opera.</div>
 <div>
 	&nbsp\;</div>
 <div>
 </div>
END:VEVENT
BEGIN:VEVENT
DTSTAMP;VALUE=DATE-TIME:20260419T171039Z
DTSTART;VALUE=DATE-TIME:20240128T090000Z
DTEND;VALUE=DATE-TIME:20240128T123000Z
UID:https://wwuh.org/004091-sunday-afternoon-opera-shakespeare-king-lear
URL;VALUE=URI:https://wwuh.org/004091-sunday-afternoon-opera-shakespeare-king-lear
SUMMARY:Sunday Afternoon at the Opera - Shakespeare\: King Lear 
DESCRIPTION:<p>&nbsp\;</p>
 <p><em>Sunday Afternoon at the Opera</em> host Keith Brown writes\:</p>
 
END:VEVENT
BEGIN:VEVENT
DTSTAMP;VALUE=DATE-TIME:20260419T171039Z
DTSTART;VALUE=DATE-TIME:20240128T123000Z
DTEND;VALUE=DATE-TIME:20240128T130000Z
UID:https://wwuh.org/004095-amazing-tales-ct-oysters
URL;VALUE=URI:https://wwuh.org/004095-amazing-tales-ct-oysters
SUMMARY:Amazing Tales from CT\: Oysters
DESCRIPTION:<div>
 	We encourage you to tune in to our newest program\, Amazing Tales from Off and On Connecticut&#39\;s Beaten Path\, which airs Sunday afternoons at 4\:30 right after the Opera.</div>
 <div>
 	&nbsp\;</div>
 <div>
 </div>
END:VEVENT
BEGIN:VEVENT
DTSTAMP;VALUE=DATE-TIME:20260419T171039Z
DTSTART;VALUE=DATE-TIME:20240204T090000Z
DTEND;VALUE=DATE-TIME:20240204T123000Z
UID:https://wwuh.org/004097-sunday-afternoon-opera-monteverdi-lorfeo
URL;VALUE=URI:https://wwuh.org/004097-sunday-afternoon-opera-monteverdi-lorfeo
SUMMARY:Sunday Afternoon at the Opera - Monteverdi\: L'Orfeo
DESCRIPTION:<p>&nbsp\;</p>
 <p><em>Sunday Afternoon at the Opera</em> host Keith Brown writes\:</p>
 
END:VEVENT
BEGIN:VEVENT
DTSTAMP;VALUE=DATE-TIME:20260419T171039Z
DTSTART;VALUE=DATE-TIME:20240204T123000Z
DTEND;VALUE=DATE-TIME:20240204T130000Z
UID:https://wwuh.org/004098-amazing-tales-ct-hiding-plain-sight
URL;VALUE=URI:https://wwuh.org/004098-amazing-tales-ct-hiding-plain-sight
SUMMARY:Amazing Tales from CT\: Hiding in Plain Sight
DESCRIPTION:<p>We encourage you to tune in to our newest program\, Amazing Tales from Off and On Connecticut&#39\;s Beaten Path\, which airs Sunday afternoons at 4\:30 right after the Opera.</p>
 
END:VEVENT
END:VCALENDAR
