BEGIN:VCALENDAR
VERSION:2.0
METHOD:PUBLISH
X-WR-CALNAME:wwuh.org |  November 19 2023- December 19 2023
PRODID:-//strange bird labs//Drupal iCal API//EN
BEGIN:VEVENT
DTSTAMP;VALUE=DATE-TIME:20260424T064538Z
DTSTART;VALUE=DATE-TIME:20231119T090000Z
DTEND;VALUE=DATE-TIME:20231119T123000Z
UID:https://wwuh.org/004069-sunday-afternoon-opera-nathan-some-favored-nook-welwood-threads-blue-and-gold
URL;VALUE=URI:https://wwuh.org/004069-sunday-afternoon-opera-nathan-some-favored-nook-welwood-threads-blue-and-gold
SUMMARY:Sunday Afternoon at the Opera - Nathan\: Some Favored Nook\; Welwood\: Threads of Blue and Gold
DESCRIPTION:<p>&nbsp\;</p>
 <p><em>Sunday Afternoon at the Opera</em> host Keith Brown writes\:</p>
 
END:VEVENT
BEGIN:VEVENT
DTSTAMP;VALUE=DATE-TIME:20260424T064538Z
DTSTART;VALUE=DATE-TIME:20231119T123000Z
DTEND;VALUE=DATE-TIME:20231119T130000Z
UID:https://wwuh.org/004070-amazing-tales-ct-canal-split-connecticut-half-physically-and-politically
URL;VALUE=URI:https://wwuh.org/004070-amazing-tales-ct-canal-split-connecticut-half-physically-and-politically
SUMMARY:Amazing Tales from CT\: The Canal that Split Connecticut in Half - Physically and Politically
DESCRIPTION:<div>
 	We encourage you to tune in to our newest program\, Amazing Tales from Off and On Connecticut&#39\;s Beaten Path\, which airs Sunday afternoons at 4\:30 right after the Opera.</div>
 <div>
 	&nbsp\;</div>
 <div>
 </div>
END:VEVENT
BEGIN:VEVENT
DTSTAMP;VALUE=DATE-TIME:20260424T064538Z
DTSTART;VALUE=DATE-TIME:20231126T090000Z
DTEND;VALUE=DATE-TIME:20231126T123000Z
UID:https://wwuh.org/004071-sunday-afternoon-opera-acante-et-c%C3%A9phise-ou-la-sympathie
URL;VALUE=URI:https://wwuh.org/004071-sunday-afternoon-opera-acante-et-c%C3%A9phise-ou-la-sympathie
SUMMARY:Sunday Afternoon at the Opera - Acante et Céphise\, ou La sympathie
DESCRIPTION:<p>&nbsp\;</p>
 <p><em>Sunday Afternoon at the Opera</em> host Keith Brown writes\:</p>
 
END:VEVENT
BEGIN:VEVENT
DTSTAMP;VALUE=DATE-TIME:20260424T064538Z
DTSTART;VALUE=DATE-TIME:20231126T123000Z
DTEND;VALUE=DATE-TIME:20231126T130000Z
UID:https://wwuh.org/004072-amazing-tales-ct-daunting-challenges-one-roomed-schoolhouses
URL;VALUE=URI:https://wwuh.org/004072-amazing-tales-ct-daunting-challenges-one-roomed-schoolhouses
SUMMARY:Amazing Tales from CT\: Daunting Challenges of One Roomed Schoolhouses
DESCRIPTION:<div>
 	We encourage you to tune in to our newest program\, Amazing Tales from Off and On Connecticut&#39\;s Beaten Path\, which airs Sunday afternoons at 4\:30 right after the Opera.</div>
 <div>
 	&nbsp\;</div>
 <div>
 </div>
END:VEVENT
BEGIN:VEVENT
DTSTAMP;VALUE=DATE-TIME:20260424T064538Z
DTSTART;VALUE=DATE-TIME:20231203T093000Z
DTEND;VALUE=DATE-TIME:20231203T123000Z
UID:https://wwuh.org/004077-sunday-afternoon-opera-handel-alcina
URL;VALUE=URI:https://wwuh.org/004077-sunday-afternoon-opera-handel-alcina
SUMMARY:Sunday Afternoon at the Opera - Handel\: Alcina
DESCRIPTION:<p>&nbsp\;</p>
 <p><em>Sunday Afternoon at the Opera</em> host Keith Brown writes\:</p>
 
END:VEVENT
BEGIN:VEVENT
DTSTAMP;VALUE=DATE-TIME:20260424T064538Z
DTSTART;VALUE=DATE-TIME:20231203T123000Z
DTEND;VALUE=DATE-TIME:20231203T130000Z
UID:https://wwuh.org/004078-amazing-tales-ct-trail-no-other-part-1
URL;VALUE=URI:https://wwuh.org/004078-amazing-tales-ct-trail-no-other-part-1
SUMMARY:Amazing Tales from CT\: Trail Like No Other\, Part 1
DESCRIPTION:<div>
 	We encourage you to tune in to our newest program\, Amazing Tales from Off and On Connecticut&#39\;s Beaten Path\, which airs Sunday afternoons at 4\:30 right after the Opera.</div>
 <div>
 	&nbsp\;</div>
 <div>
 </div>
END:VEVENT
BEGIN:VEVENT
DTSTAMP;VALUE=DATE-TIME:20260424T064538Z
DTSTART;VALUE=DATE-TIME:20231210T090000Z
DTEND;VALUE=DATE-TIME:20231210T123000Z
UID:https://wwuh.org/004079-sunday-afternoon-opera-massenet-cendrillon
URL;VALUE=URI:https://wwuh.org/004079-sunday-afternoon-opera-massenet-cendrillon
SUMMARY:Sunday Afternoon at the Opera - Massenet\: Cendrillon 
DESCRIPTION:<p>&nbsp\;</p>
 <p><em>Sunday Afternoon at the Opera</em> host Keith Brown writes\:</p>
 
END:VEVENT
BEGIN:VEVENT
DTSTAMP;VALUE=DATE-TIME:20260424T064538Z
DTSTART;VALUE=DATE-TIME:20231210T123000Z
DTEND;VALUE=DATE-TIME:20231210T130000Z
UID:https://wwuh.org/004080-amazing-tales-ct-trail-no-other-part-2
URL;VALUE=URI:https://wwuh.org/004080-amazing-tales-ct-trail-no-other-part-2
SUMMARY:Amazing Tales from CT\: Trail Like No Other\, Part 2
DESCRIPTION:<div>
 	We encourage you to tune in to our newest program\, Amazing Tales from Off and On Connecticut&#39\;s Beaten Path\, which airs Sunday afternoons at 4\:30 right after the Opera.</div>
 <div>
 	&nbsp\;</div>
 <div>
 </div>
END:VEVENT
BEGIN:VEVENT
DTSTAMP;VALUE=DATE-TIME:20260424T064538Z
DTSTART;VALUE=DATE-TIME:20231217T090000Z
DTEND;VALUE=DATE-TIME:20231217T123000Z
UID:https://wwuh.org/004081-sunday-afternoon-opera-wheeler-naga-surinach-owl-and-pussycat
URL;VALUE=URI:https://wwuh.org/004081-sunday-afternoon-opera-wheeler-naga-surinach-owl-and-pussycat
SUMMARY:Sunday Afternoon at the Opera - Wheeler\: Naga\; Surinach\: The Owl and The Pussycat
DESCRIPTION:<p>&nbsp\;</p>
 <p><em>Sunday Afternoon at the Opera</em> host Keith Brown writes\:</p>
 
END:VEVENT
BEGIN:VEVENT
DTSTAMP;VALUE=DATE-TIME:20260424T064538Z
DTSTART;VALUE=DATE-TIME:20231217T123000Z
DTEND;VALUE=DATE-TIME:20231217T130000Z
UID:https://wwuh.org/004082-amazing-tales-ct-wood-chipper
URL;VALUE=URI:https://wwuh.org/004082-amazing-tales-ct-wood-chipper
SUMMARY:Amazing Tales from CT\: Wood Chipper
DESCRIPTION:<div>
 	We encourage you to tune in to our newest program\, Amazing Tales from Off and On Connecticut&#39\;s Beaten Path\, which airs Sunday afternoons at 4\:30 right after the Opera.</div>
 <div>
 	&nbsp\;</div>
 <div>
 </div>
END:VEVENT
END:VCALENDAR
