BEGIN:VCALENDAR
VERSION:2.0
METHOD:PUBLISH
X-WR-CALNAME:wwuh.org |  July 23 2023- August 22 2023
PRODID:-//strange bird labs//Drupal iCal API//EN
BEGIN:VEVENT
DTSTAMP;VALUE=DATE-TIME:20260419T162217Z
DTSTART;VALUE=DATE-TIME:20230723T090000Z
DTEND;VALUE=DATE-TIME:20230723T123000Z
UID:https://wwuh.org/004027-sunday-afternoon-opera-ravi-shankar-sukanya
URL;VALUE=URI:https://wwuh.org/004027-sunday-afternoon-opera-ravi-shankar-sukanya
SUMMARY:Sunday Afternoon at the Opera - Ravi Shankar\: Sukanya
DESCRIPTION:<p>&nbsp\;</p>
 <p><em>Sunday Afternoon at the Opera</em> host Keith Brown writes\:</p>
 
END:VEVENT
BEGIN:VEVENT
DTSTAMP;VALUE=DATE-TIME:20260419T162217Z
DTSTART;VALUE=DATE-TIME:20230723T123000Z
DTEND;VALUE=DATE-TIME:20230723T130000Z
UID:https://wwuh.org/004031-amazing-tales-ct-catastrophic-night-when-not-one-two-dams-gave-way
URL;VALUE=URI:https://wwuh.org/004031-amazing-tales-ct-catastrophic-night-when-not-one-two-dams-gave-way
SUMMARY:Amazing Tales from CT\: The Catastrophic Night When Not One\, but Two Dams Gave Way
DESCRIPTION:<div>
 	We encourage you to tune in to our newest program\, Amazing Tales from Off and On Connecticut&#39\;s Beaten Path\, which airs Sunday afternoons at 4\:30 right after the Opera.</div>
 <div>
 	&nbsp\;</div>
 <div>
 </div>
END:VEVENT
BEGIN:VEVENT
DTSTAMP;VALUE=DATE-TIME:20260419T162217Z
DTSTART;VALUE=DATE-TIME:20230730T090000Z
DTEND;VALUE=DATE-TIME:20230730T123000Z
UID:https://wwuh.org/004028-sunday-afternoon-opera-gilbert-sullivan-patience
URL;VALUE=URI:https://wwuh.org/004028-sunday-afternoon-opera-gilbert-sullivan-patience
SUMMARY:Sunday Afternoon at the Opera - Gilbert & Sullivan\: Patience
DESCRIPTION:<p>&nbsp\;</p>
 <p><em>Sunday Afternoon at the Opera</em> host Keith Brown writes\:</p>
 <p>This is the summer Sunday I usually reserve for a recording of one of those classic English Victorian comic operas. This time around you get G &amp\; S with all of Gilbert&#39\;s witty dialog\, so this is a truly complete recorded presentation of something from the G &amp\; S canon.</p>
 
END:VEVENT
BEGIN:VEVENT
DTSTAMP;VALUE=DATE-TIME:20260419T162217Z
DTSTART;VALUE=DATE-TIME:20230730T123000Z
DTEND;VALUE=DATE-TIME:20230730T130000Z
UID:https://wwuh.org/004032-amazing-tales-ct-show-must-go-even-outdoors
URL;VALUE=URI:https://wwuh.org/004032-amazing-tales-ct-show-must-go-even-outdoors
SUMMARY:Amazing Tales from CT\: The Show Must Go On - Even Outdoors
DESCRIPTION:<div>
 	We encourage you to tune in to our newest program\, Amazing Tales from Off and On Connecticut&#39\;s Beaten Path\, which airs Sunday afternoons at 4\:30 right after the Opera.</div>
 <div>
 	&nbsp\;</div>
 <div>
 </div>
END:VEVENT
BEGIN:VEVENT
DTSTAMP;VALUE=DATE-TIME:20260419T162217Z
DTSTART;VALUE=DATE-TIME:20230806T090000Z
DTEND;VALUE=DATE-TIME:20230806T123000Z
UID:https://wwuh.org/004034-sunday-afternoon-opera-herbert-naughty-marietta-vives-bohemios
URL;VALUE=URI:https://wwuh.org/004034-sunday-afternoon-opera-herbert-naughty-marietta-vives-bohemios
SUMMARY:Sunday Afternoon at the Opera - Herbert\: Naughty Marietta\; Vives\: Bohemios
DESCRIPTION:<p>&nbsp\;</p>
 <p><em>Sunday Afternoon at the Opera</em> host Keith Brown writes\:</p>
 
END:VEVENT
BEGIN:VEVENT
DTSTAMP;VALUE=DATE-TIME:20260419T162217Z
DTSTART;VALUE=DATE-TIME:20230806T123000Z
DTEND;VALUE=DATE-TIME:20230806T130000Z
UID:https://wwuh.org/004035-amazing-tales-ct-keeping-grange-alive-21st-century
URL;VALUE=URI:https://wwuh.org/004035-amazing-tales-ct-keeping-grange-alive-21st-century
SUMMARY:Amazing Tales from CT\: Keeping The Grange Alive in the 21st Century
DESCRIPTION:<p>We encourage you to tune in to our newest program\, Amazing Tales from Off and On Connecticut&#39\;s Beaten Path\, which airs Sunday afternoons at 4\:30 right after the Opera. Amazing Tales uses a story-telling format to focus on historically significant people\, places\, and events from Connecticut&rsquo\;s past. Host Mike Allen interviews subject matter experts on a variety of historical topics.</p>
 
END:VEVENT
BEGIN:VEVENT
DTSTAMP;VALUE=DATE-TIME:20260419T162217Z
DTSTART;VALUE=DATE-TIME:20230813T090000Z
DTEND;VALUE=DATE-TIME:20230813T123000Z
UID:https://wwuh.org/004036-sunday-afternoon-opera-rossini-il-turco-italia
URL;VALUE=URI:https://wwuh.org/004036-sunday-afternoon-opera-rossini-il-turco-italia
SUMMARY:Sunday Afternoon at the Opera - Rossini\: Il Turco in Italia
DESCRIPTION:<p>&nbsp\;</p>
 <p><em>Sunday Afternoon at the Opera</em> host Keith Brown writes\:</p>
 
END:VEVENT
BEGIN:VEVENT
DTSTAMP;VALUE=DATE-TIME:20260419T162217Z
DTSTART;VALUE=DATE-TIME:20230813T123000Z
DTEND;VALUE=DATE-TIME:20230813T130000Z
UID:https://wwuh.org/004037-amazing-tales-ct-world-his-oyster
URL;VALUE=URI:https://wwuh.org/004037-amazing-tales-ct-world-his-oyster
SUMMARY:Amazing Tales from CT\: The World is His Oyster
DESCRIPTION:<div>
 	We encourage you to tune in to our newest program\, Amazing Tales from Off and On Connecticut&#39\;s Beaten Path\, which airs Sunday afternoons at 4\:30 right after the Opera.</div>
 <div>
 	&nbsp\;</div>
 <div>
 </div>
END:VEVENT
BEGIN:VEVENT
DTSTAMP;VALUE=DATE-TIME:20260419T162217Z
DTSTART;VALUE=DATE-TIME:20230820T090000Z
DTEND;VALUE=DATE-TIME:20230820T123000Z
UID:https://wwuh.org/004038-sunday-afternoon-opera-strauss-waldmeister
URL;VALUE=URI:https://wwuh.org/004038-sunday-afternoon-opera-strauss-waldmeister
SUMMARY:Sunday Afternoon at the Opera - Strauss\: Waldmeister
DESCRIPTION:<p>&nbsp\;</p>
 <p><em>Sunday Afternoon at the Opera</em> host Keith Brown writes\:</p>
 
END:VEVENT
BEGIN:VEVENT
DTSTAMP;VALUE=DATE-TIME:20260419T162217Z
DTSTART;VALUE=DATE-TIME:20230820T123000Z
DTEND;VALUE=DATE-TIME:20230820T130000Z
UID:https://wwuh.org/004039-amazing-tales-ct-she-put-alice-alice%E2%80%99s-restaurant
URL;VALUE=URI:https://wwuh.org/004039-amazing-tales-ct-she-put-alice-alice%E2%80%99s-restaurant
SUMMARY:Amazing Tales from CT\: She Put the Alice in Alice’s Restaurant
DESCRIPTION:<div>
 	We encourage you to tune in to our newest program\, Amazing Tales from Off and On Connecticut&#39\;s Beaten Path\, which airs Sunday afternoons at 4\:30 right after the Opera.</div>
 <div>
 	&nbsp\;</div>
 <div>
 </div>
END:VEVENT
END:VCALENDAR
