BEGIN:VCALENDAR
VERSION:2.0
METHOD:PUBLISH
X-WR-CALNAME:wwuh.org |  June 24 2023- July 24 2023
PRODID:-//strange bird labs//Drupal iCal API//EN
BEGIN:VEVENT
DTSTAMP;VALUE=DATE-TIME:20260419T235550Z
DTSTART;VALUE=DATE-TIME:20230625T090000Z
DTEND;VALUE=DATE-TIME:20230625T123000Z
UID:https://wwuh.org/004017-sunday-afternoon-opera-wilde-lady-windermeres-fan-walton-fa%C3%A7ade
URL;VALUE=URI:https://wwuh.org/004017-sunday-afternoon-opera-wilde-lady-windermeres-fan-walton-fa%C3%A7ade
SUMMARY:Sunday Afternoon at the Opera - Wilde\: Lady Windermere's Fan\; Walton\: Façade
DESCRIPTION:<p>&nbsp\;</p>
 <p><em>Sunday Afternoon at the Opera</em> host Keith Brown writes\:</p>
 
END:VEVENT
BEGIN:VEVENT
DTSTAMP;VALUE=DATE-TIME:20260419T235550Z
DTSTART;VALUE=DATE-TIME:20230625T123000Z
DTEND;VALUE=DATE-TIME:20230625T130000Z
UID:https://wwuh.org/004021-amazing-tales-ct-deadliest-fire-federal-prison-history-7-7-77
URL;VALUE=URI:https://wwuh.org/004021-amazing-tales-ct-deadliest-fire-federal-prison-history-7-7-77
SUMMARY:Amazing Tales from CT\: The Deadliest Fire in Federal Prison History\, 7-7-77
DESCRIPTION:<div>
 	We encourage you to tune in to our newest program\, <em>Amazing Tales from Off and On Connecticut&rsquo\;s Beaten Path</em>\, which airs Sunday afternoons at 4\:30 right after the Opera.</div>
 <div>
 	&nbsp\;</div>
 <div>
 </div>
END:VEVENT
BEGIN:VEVENT
DTSTAMP;VALUE=DATE-TIME:20260419T235550Z
DTSTART;VALUE=DATE-TIME:20230702T090000Z
DTEND;VALUE=DATE-TIME:20230702T123000Z
UID:https://wwuh.org/004022-sunday-afternoon-opera-mazzoli-vavrek-proving-gordon-acquanetta
URL;VALUE=URI:https://wwuh.org/004022-sunday-afternoon-opera-mazzoli-vavrek-proving-gordon-acquanetta
SUMMARY:Sunday Afternoon at the Opera - Mazzoli & Vavrek\: Proving Up\; Gordon\: Acquanetta
DESCRIPTION:<p>&nbsp\;</p>
 <p><em>Sunday Afternoon at the Opera</em> host Keith Brown writes\:</p>
 
END:VEVENT
BEGIN:VEVENT
DTSTAMP;VALUE=DATE-TIME:20260419T235550Z
DTSTART;VALUE=DATE-TIME:20230702T123000Z
DTEND;VALUE=DATE-TIME:20230702T130000Z
UID:https://wwuh.org/004023-amazing-tales-ct-deadliest-fire-federal-prison-history
URL;VALUE=URI:https://wwuh.org/004023-amazing-tales-ct-deadliest-fire-federal-prison-history
SUMMARY:Amazing Tales from CT\: The Deadliest Fire in Federal Prison History
DESCRIPTION:<div>
 	We encourage you to tune in to our newest program\, Amazing Tales from Off and On Connecticut&#39\;s Beaten Path\, which airs Sunday afternoons at 4\:30 right after the Opera.</div>
 <div>
 	&nbsp\;</div>
 <div>
 </div>
END:VEVENT
BEGIN:VEVENT
DTSTAMP;VALUE=DATE-TIME:20260419T235550Z
DTSTART;VALUE=DATE-TIME:20230709T090000Z
DTEND;VALUE=DATE-TIME:20230709T123000Z
UID:https://wwuh.org/004025-sunday-afternoon-opera-offenbach-fantasio
URL;VALUE=URI:https://wwuh.org/004025-sunday-afternoon-opera-offenbach-fantasio
SUMMARY:Sunday Afternoon at the Opera - Offenbach\: Fantasio
DESCRIPTION:<p>&nbsp\;</p>
 <p><em>Sunday Afternoon at the Opera</em> host Keith Brown writes\:</p>
 
END:VEVENT
BEGIN:VEVENT
DTSTAMP;VALUE=DATE-TIME:20260419T235550Z
DTSTART;VALUE=DATE-TIME:20230709T123000Z
DTEND;VALUE=DATE-TIME:20230709T130000Z
UID:https://wwuh.org/004029-amazing-tales-ct-there%E2%80%99s-never-been-anything-quite-great-danbury-state-fair-part-1
URL;VALUE=URI:https://wwuh.org/004029-amazing-tales-ct-there%E2%80%99s-never-been-anything-quite-great-danbury-state-fair-part-1
SUMMARY:Amazing Tales from CT\: There’s Never Been Anything Quite like the Great Danbury State Fair\, Part 1
DESCRIPTION:<div>
 	We encourage you to tune in to our newest program\, Amazing Tales from Off and On Connecticut&#39\;s Beaten Path\, which airs Sunday afternoons at 4\:30 right after the Opera.</div>
 <div>
 	&nbsp\;</div>
 <div>
 </div>
END:VEVENT
BEGIN:VEVENT
DTSTAMP;VALUE=DATE-TIME:20260419T235550Z
DTSTART;VALUE=DATE-TIME:20230716T090000Z
DTEND;VALUE=DATE-TIME:20230716T123000Z
UID:https://wwuh.org/004026-sunday-afternoon-opera-vives-do%C3%B1-francisquita-torroba-luisa-fernanda
URL;VALUE=URI:https://wwuh.org/004026-sunday-afternoon-opera-vives-do%C3%B1-francisquita-torroba-luisa-fernanda
SUMMARY:Sunday Afternoon at the Opera - Vives\: Doña Francisquita\; Torroba\: Luisa Fernanda
DESCRIPTION:<p>&nbsp\;</p>
 <p><em>Sunday Afternoon at the Opera</em> host Keith Brown writes\:</p>
 
END:VEVENT
BEGIN:VEVENT
DTSTAMP;VALUE=DATE-TIME:20260419T235550Z
DTSTART;VALUE=DATE-TIME:20230716T123000Z
DTEND;VALUE=DATE-TIME:20230716T130000Z
UID:https://wwuh.org/004030-amazing-tales-ct-there%E2%80%99s-never-been-anything-quite-great-danbury-state-fair-part-2
URL;VALUE=URI:https://wwuh.org/004030-amazing-tales-ct-there%E2%80%99s-never-been-anything-quite-great-danbury-state-fair-part-2
SUMMARY:Amazing Tales from CT\: There’s Never Been Anything Quite like the Great Danbury State Fair\, Part 2
DESCRIPTION:<div>
 	We encourage you to tune in to our newest program\, Amazing Tales from Off and On Connecticut&#39\;s Beaten Path\, which airs Sunday afternoons at 4\:30 right after the Opera.</div>
 <div>
 	&nbsp\;</div>
 <div>
 </div>
END:VEVENT
BEGIN:VEVENT
DTSTAMP;VALUE=DATE-TIME:20260419T235550Z
DTSTART;VALUE=DATE-TIME:20230723T090000Z
DTEND;VALUE=DATE-TIME:20230723T123000Z
UID:https://wwuh.org/004027-sunday-afternoon-opera-ravi-shankar-sukanya
URL;VALUE=URI:https://wwuh.org/004027-sunday-afternoon-opera-ravi-shankar-sukanya
SUMMARY:Sunday Afternoon at the Opera - Ravi Shankar\: Sukanya
DESCRIPTION:<p>&nbsp\;</p>
 <p><em>Sunday Afternoon at the Opera</em> host Keith Brown writes\:</p>
 
END:VEVENT
BEGIN:VEVENT
DTSTAMP;VALUE=DATE-TIME:20260419T235550Z
DTSTART;VALUE=DATE-TIME:20230723T123000Z
DTEND;VALUE=DATE-TIME:20230723T130000Z
UID:https://wwuh.org/004031-amazing-tales-ct-catastrophic-night-when-not-one-two-dams-gave-way
URL;VALUE=URI:https://wwuh.org/004031-amazing-tales-ct-catastrophic-night-when-not-one-two-dams-gave-way
SUMMARY:Amazing Tales from CT\: The Catastrophic Night When Not One\, but Two Dams Gave Way
DESCRIPTION:<div>
 	We encourage you to tune in to our newest program\, Amazing Tales from Off and On Connecticut&#39\;s Beaten Path\, which airs Sunday afternoons at 4\:30 right after the Opera.</div>
 <div>
 	&nbsp\;</div>
 <div>
 </div>
END:VEVENT
END:VCALENDAR
