BEGIN:VCALENDAR
VERSION:2.0
METHOD:PUBLISH
X-WR-CALNAME:wwuh.org |  May 28 2023- June 27 2023
PRODID:-//strange bird labs//Drupal iCal API//EN
BEGIN:VEVENT
DTSTAMP;VALUE=DATE-TIME:20260420T015123Z
DTSTART;VALUE=DATE-TIME:20230528T090000Z
DTEND;VALUE=DATE-TIME:20230528T123000Z
UID:https://wwuh.org/004012-sunday-afternoon-opera-gordon-rappahannock-county
URL;VALUE=URI:https://wwuh.org/004012-sunday-afternoon-opera-gordon-rappahannock-county
SUMMARY:Sunday Afternoon at the Opera - Gordon\: Rappahannock County
DESCRIPTION:<p>&nbsp\;</p>
 <p><em>Sunday Afternoon at the Opera</em> host Keith Brown writes\:</p>
 
END:VEVENT
BEGIN:VEVENT
DTSTAMP;VALUE=DATE-TIME:20260420T015123Z
DTSTART;VALUE=DATE-TIME:20230604T090000Z
DTEND;VALUE=DATE-TIME:20230604T123000Z
UID:https://wwuh.org/004014-sunday-afternoon-opera-lully-alceste
URL;VALUE=URI:https://wwuh.org/004014-sunday-afternoon-opera-lully-alceste
SUMMARY:Sunday Afternoon at the Opera - Lully\: Alceste
DESCRIPTION:<p>&nbsp\;</p>
 <p><em>Sunday Afternoon at the Opera</em> host Keith Brown writes\:</p>
 
END:VEVENT
BEGIN:VEVENT
DTSTAMP;VALUE=DATE-TIME:20260420T015123Z
DTSTART;VALUE=DATE-TIME:20230604T123000Z
DTEND;VALUE=DATE-TIME:20230604T130000Z
UID:https://wwuh.org/004018-amazing-tales-ct-greatest-showman-earth-pt-barnum-part-2
URL;VALUE=URI:https://wwuh.org/004018-amazing-tales-ct-greatest-showman-earth-pt-barnum-part-2
SUMMARY:Amazing Tales from CT\: The Greatest Showman on Earth - P.T. Barnum\, Part 2
DESCRIPTION:<div>
 	We encourage you to tune in to our newest program\, <em>Amazing Tales from Off and On Connecticut&rsquo\;s Beaten Path</em>\, which airs Sunday afternoons at 4\:30 right after the Opera.</div>
 <div>
 	&nbsp\;</div>
 <div>
 </div>
END:VEVENT
BEGIN:VEVENT
DTSTAMP;VALUE=DATE-TIME:20260420T015123Z
DTSTART;VALUE=DATE-TIME:20230611T090000Z
DTEND;VALUE=DATE-TIME:20230611T123000Z
UID:https://wwuh.org/004015-sunday-afternoon-opera-cherubini-les-abenc%C3%A9rages
URL;VALUE=URI:https://wwuh.org/004015-sunday-afternoon-opera-cherubini-les-abenc%C3%A9rages
SUMMARY:Sunday Afternoon at the Opera - Cherubini\: Les Abencérages
DESCRIPTION:<p>&nbsp\;</p>
 <p><em>Sunday Afternoon at the Opera</em> host Keith Brown writes\:</p>
 
END:VEVENT
BEGIN:VEVENT
DTSTAMP;VALUE=DATE-TIME:20260420T015123Z
DTSTART;VALUE=DATE-TIME:20230611T123000Z
DTEND;VALUE=DATE-TIME:20230611T130000Z
UID:https://wwuh.org/004019-amazing-tales-ct-reddings-favorite-son-mark-twain-part-1
URL;VALUE=URI:https://wwuh.org/004019-amazing-tales-ct-reddings-favorite-son-mark-twain-part-1
SUMMARY:Amazing Tales from CT\: Redding's Favorite Son - Mark Twain\, Part 1
DESCRIPTION:<div>
 	We encourage you to tune in to our newest program\, <em>Amazing Tales from Off and On Connecticut&rsquo\;s Beaten Path</em>\, which airs Sunday afternoons at 4\:30 right after the Opera.</div>
 <div>
 	&nbsp\;</div>
 <div>
 </div>
END:VEVENT
BEGIN:VEVENT
DTSTAMP;VALUE=DATE-TIME:20260420T015123Z
DTSTART;VALUE=DATE-TIME:20230618T090000Z
DTEND;VALUE=DATE-TIME:20230618T123000Z
UID:https://wwuh.org/004016-sunday-afternoon-opera-mahler-das-lied-von-der-erde
URL;VALUE=URI:https://wwuh.org/004016-sunday-afternoon-opera-mahler-das-lied-von-der-erde
SUMMARY:Sunday Afternoon at the Opera - Mahler\: Das Lied von der Erde
DESCRIPTION:<p>&nbsp\;</p>
 <p><em>Sunday Afternoon at the Opera</em> host Keith Brown writes\:</p>
 
END:VEVENT
BEGIN:VEVENT
DTSTAMP;VALUE=DATE-TIME:20260420T015123Z
DTSTART;VALUE=DATE-TIME:20230618T123000Z
DTEND;VALUE=DATE-TIME:20230618T130000Z
UID:https://wwuh.org/004020-amazing-tales-ct-reddings-favorite-son-mark-twain-part-2
URL;VALUE=URI:https://wwuh.org/004020-amazing-tales-ct-reddings-favorite-son-mark-twain-part-2
SUMMARY:Amazing Tales from CT\: Redding's Favorite Son - Mark Twain\, Part 2
DESCRIPTION:<div>
 	We encourage you to tune in to our newest program\, <em>Amazing Tales from Off and On Connecticut&rsquo\;s Beaten Path</em>\, which airs Sunday afternoons at 4\:30 right after the Opera.</div>
 <div>
 	&nbsp\;</div>
 <div>
 </div>
END:VEVENT
BEGIN:VEVENT
DTSTAMP;VALUE=DATE-TIME:20260420T015123Z
DTSTART;VALUE=DATE-TIME:20230625T090000Z
DTEND;VALUE=DATE-TIME:20230625T123000Z
UID:https://wwuh.org/004017-sunday-afternoon-opera-wilde-lady-windermeres-fan-walton-fa%C3%A7ade
URL;VALUE=URI:https://wwuh.org/004017-sunday-afternoon-opera-wilde-lady-windermeres-fan-walton-fa%C3%A7ade
SUMMARY:Sunday Afternoon at the Opera - Wilde\: Lady Windermere's Fan\; Walton\: Façade
DESCRIPTION:<p>&nbsp\;</p>
 <p><em>Sunday Afternoon at the Opera</em> host Keith Brown writes\:</p>
 
END:VEVENT
BEGIN:VEVENT
DTSTAMP;VALUE=DATE-TIME:20260420T015123Z
DTSTART;VALUE=DATE-TIME:20230625T123000Z
DTEND;VALUE=DATE-TIME:20230625T130000Z
UID:https://wwuh.org/004021-amazing-tales-ct-deadliest-fire-federal-prison-history-7-7-77
URL;VALUE=URI:https://wwuh.org/004021-amazing-tales-ct-deadliest-fire-federal-prison-history-7-7-77
SUMMARY:Amazing Tales from CT\: The Deadliest Fire in Federal Prison History\, 7-7-77
DESCRIPTION:<div>
 	We encourage you to tune in to our newest program\, <em>Amazing Tales from Off and On Connecticut&rsquo\;s Beaten Path</em>\, which airs Sunday afternoons at 4\:30 right after the Opera.</div>
 <div>
 	&nbsp\;</div>
 <div>
 </div>
END:VEVENT
END:VCALENDAR
