BEGIN:VCALENDAR
VERSION:2.0
METHOD:PUBLISH
X-WR-CALNAME:wwuh.org |  August 28 2022- September 27 2022
PRODID:-//strange bird labs//Drupal iCal API//EN
BEGIN:VEVENT
DTSTAMP;VALUE=DATE-TIME:20260426T025823Z
DTSTART;VALUE=DATE-TIME:20220828T090000Z
DTEND;VALUE=DATE-TIME:20220828T123000Z
UID:https://wwuh.org/003963-sunday-afternoon-opera-delius-koanga
URL;VALUE=URI:https://wwuh.org/003963-sunday-afternoon-opera-delius-koanga
SUMMARY:Sunday Afternoon at the Opera - Delius\: Koanga
DESCRIPTION:<p>&nbsp\;</p>
 <p><em>Sunday Afternoon at the Opera</em> host Keith Brown writes\:</p>
 
END:VEVENT
BEGIN:VEVENT
DTSTAMP;VALUE=DATE-TIME:20260426T025823Z
DTSTART;VALUE=DATE-TIME:20220904T090000Z
DTEND;VALUE=DATE-TIME:20220904T123000Z
UID:https://wwuh.org/003965-sunday-afternoon-opera-baum-wonderful-wizard-oz
URL;VALUE=URI:https://wwuh.org/003965-sunday-afternoon-opera-baum-wonderful-wizard-oz
SUMMARY:Sunday Afternoon at the Opera - Baum\: The Wonderful Wizard of Oz
DESCRIPTION:<p>&nbsp\;</p>
 <p><em>Sunday Afternoon at the Opera</em> host Keith Brown writes\:</p>
 
END:VEVENT
BEGIN:VEVENT
DTSTAMP;VALUE=DATE-TIME:20260426T025823Z
DTSTART;VALUE=DATE-TIME:20220911T090000Z
DTEND;VALUE=DATE-TIME:20220911T123000Z
UID:https://wwuh.org/003966-sunday-afternoon-opera-gounod-rom%C3%A9o-et-juliette
URL;VALUE=URI:https://wwuh.org/003966-sunday-afternoon-opera-gounod-rom%C3%A9o-et-juliette
SUMMARY:Sunday Afternoon at the Opera - Gounod\: Roméo et Juliette
DESCRIPTION:<p>&nbsp\;</p>
 <p><em>Sunday Afternoon at the Opera</em> host Keith Brown writes\:</p>
 
END:VEVENT
BEGIN:VEVENT
DTSTAMP;VALUE=DATE-TIME:20260426T025823Z
DTSTART;VALUE=DATE-TIME:20220918T090000Z
DTEND;VALUE=DATE-TIME:20220918T123000Z
UID:https://wwuh.org/003967-sunday-afternoon-opera-von-reznicek-donna-diana
URL;VALUE=URI:https://wwuh.org/003967-sunday-afternoon-opera-von-reznicek-donna-diana
SUMMARY:Sunday Afternoon at the Opera - von Reznicek\: Donna Diana
DESCRIPTION:<p>&nbsp\;</p>
 <p><em>Sunday Afternoon at the Opera</em> host Keith Brown writes\:</p>
 
END:VEVENT
BEGIN:VEVENT
DTSTAMP;VALUE=DATE-TIME:20260426T025823Z
DTSTART;VALUE=DATE-TIME:20220925T090000Z
DTEND;VALUE=DATE-TIME:20220925T123000Z
UID:https://wwuh.org/003968-sunday-afternoon-opera-vivaldi-argippo
URL;VALUE=URI:https://wwuh.org/003968-sunday-afternoon-opera-vivaldi-argippo
SUMMARY:Sunday Afternoon at the Opera - Vivaldi\: Argippo
DESCRIPTION:<p>&nbsp\;</p>
 <p><em>Sunday Afternoon at the Opera</em> host Keith Brown writes\:</p>
 
END:VEVENT
END:VCALENDAR
