BEGIN:VCALENDAR
VERSION:2.0
METHOD:PUBLISH
X-WR-CALNAME:wwuh.org |  August 01 2022- August 08 2022
PRODID:-//strange bird labs//Drupal iCal API//EN
BEGIN:VEVENT
DTSTAMP;VALUE=DATE-TIME:20260426T030022Z
DTSTART;VALUE=DATE-TIME:20220807T093000Z
DTEND;VALUE=DATE-TIME:20220807T123000Z
UID:https://wwuh.org/003960-sunday-afternoon-opera-rossini-il-turco-italia
URL;VALUE=URI:https://wwuh.org/003960-sunday-afternoon-opera-rossini-il-turco-italia
SUMMARY:Sunday Afternoon at the Opera - Rossini\: Il Turco in Italia
DESCRIPTION:<p>&nbsp\;</p>
 <p><em>Sunday Afternoon at the Opera</em> host Keith Brown writes\:</p>
 
END:VEVENT
END:VCALENDAR
