BEGIN:VCALENDAR
VERSION:2.0
METHOD:PUBLISH
X-WR-CALNAME:wwuh.org |  February 10 2013- March 12 2013
PRODID:-//strange bird labs//Drupal iCal API//EN
BEGIN:VEVENT
DTSTAMP;VALUE=DATE-TIME:20260419T192432Z
DTSTART;VALUE=DATE-TIME:20130210T090000Z
DTEND;VALUE=DATE-TIME:20130210T123000Z
UID:https://wwuh.org/00712-sunday-afternoon-opera-telemann-flavius-bertaridus
URL;VALUE=URI:https://wwuh.org/00712-sunday-afternoon-opera-telemann-flavius-bertaridus
SUMMARY:Sunday Afternoon at the Opera - Telemann\: Flavius Bertaridus
DESCRIPTION:<p>&nbsp\;</p>
 <p>Host Keith Brown writes\:</p>
 
END:VEVENT
BEGIN:VEVENT
DTSTAMP;VALUE=DATE-TIME:20260419T192432Z
DTSTART;VALUE=DATE-TIME:20130212T080000Z
DTEND;VALUE=DATE-TIME:20130212T083000Z
UID:https://wwuh.org/00719-new-world-notes-gmos
URL;VALUE=URI:https://wwuh.org/00719-new-world-notes-gmos
SUMMARY:New World Notes - GMOs
DESCRIPTION:<p>&nbsp\;</p>
 <p>This week on&nbsp\;<a href=\\"http\://newworldnotes.blogspot.com/\\" target=\\"_blank\\">New World Notes</a>\: radio program #258\, February 12\, 2013\, from 12\:00 to 12\:30 p.m.\, host Kenneth Dowst offers some reflections on the anti-GMO\: local produce--now but a fond memory here in New England. Then he looks at GMOs--genetically-modified plants sold as food.</p>
 
END:VEVENT
BEGIN:VEVENT
DTSTAMP;VALUE=DATE-TIME:20260419T192432Z
DTSTART;VALUE=DATE-TIME:20130219T080000Z
DTEND;VALUE=DATE-TIME:20130219T083000Z
UID:https://wwuh.org/00725-new-world-notes-consumed-part-1-2
URL;VALUE=URI:https://wwuh.org/00725-new-world-notes-consumed-part-1-2
SUMMARY:New World Notes - Consumed (Part 1 of 2)
DESCRIPTION:<p>&nbsp\;</p>
 
END:VEVENT
BEGIN:VEVENT
DTSTAMP;VALUE=DATE-TIME:20260419T192432Z
DTSTART;VALUE=DATE-TIME:20130224T090000Z
DTEND;VALUE=DATE-TIME:20130224T123000Z
UID:https://wwuh.org/00718-sunday-afternoon-opera-monteverdi-vespers-howells-winchester-service
URL;VALUE=URI:https://wwuh.org/00718-sunday-afternoon-opera-monteverdi-vespers-howells-winchester-service
SUMMARY:Sunday Afternoon at the Opera - Monteverdi\: Vespers\; Howells\: The Winchester Service
DESCRIPTION:<p>&nbsp\;</p>
 <p>Host Keith Brown writes\:</p>
 <p>Monteverdi\, Vespro della Beata Vergine (Vespers of 1610)\, Howells\, The Winchester Service\, etc.</p>
 
END:VEVENT
BEGIN:VEVENT
DTSTAMP;VALUE=DATE-TIME:20260419T192432Z
DTSTART;VALUE=DATE-TIME:20130226T080000Z
DTEND;VALUE=DATE-TIME:20130226T090000Z
UID:https://wwuh.org/00734-new-world-notes-consumed-part-2-2
URL;VALUE=URI:https://wwuh.org/00734-new-world-notes-consumed-part-2-2
SUMMARY:New World Notes - Consumed (Part 2 of 2)
DESCRIPTION:<p>&nbsp\;</p>
 
END:VEVENT
BEGIN:VEVENT
DTSTAMP;VALUE=DATE-TIME:20260419T192432Z
DTSTART;VALUE=DATE-TIME:20130228T150000Z
DTEND;VALUE=DATE-TIME:20130228T173000Z
UID:https://wwuh.org/00729-progressive-movie-night-weight-chains
URL;VALUE=URI:https://wwuh.org/00729-progressive-movie-night-weight-chains
SUMMARY:Progressive Movie Night\: \\"The Weight of Chains\\"
DESCRIPTION:<p>&nbsp\;</p>
 <p>On Thursday\, February 28 at 7 p.m.\, WWUH&#39\;s Progressive Movie Night returns with the film <em>The Weight of Chains</em>\, Boris Malagurski&#39\;s controversial documentary about the hidden facts that have recently come to lilght about the destruction of the country that used to be called Yugoslavia.</p>
 
END:VEVENT
BEGIN:VEVENT
DTSTAMP;VALUE=DATE-TIME:20260419T192432Z
DTSTART;VALUE=DATE-TIME:20130303T140000Z
DTEND;VALUE=DATE-TIME:20130303T140000Z
UID:https://wwuh.org/00726-wwuh-2013-spring-marathon-ends
URL;VALUE=URI:https://wwuh.org/00726-wwuh-2013-spring-marathon-ends
SUMMARY:WWUH 2013 Spring Marathon Ends
DESCRIPTION:<p>&nbsp\;</p>
 <p>WWUH is reaching out to listeners from Sunday\, February 24 at 6\:00 p.m. to Sunday\, March 3 at 6\:00 p.m. Our goal during the week is to raise $55\,000 which will go towards the station's normal operations. Please show your support for the station by calling in your pledge!</p>
 <p>The phone number is&nbsp\;1-800-444-WWUH (9984). Volunteers are waiting to receive your call.</p>
 
END:VEVENT
BEGIN:VEVENT
DTSTAMP;VALUE=DATE-TIME:20260419T192432Z
DTSTART;VALUE=DATE-TIME:20130305T080000Z
DTEND;VALUE=DATE-TIME:20130305T083000Z
UID:https://wwuh.org/00737-new-world-notes-gmos-2-corruption
URL;VALUE=URI:https://wwuh.org/00737-new-world-notes-gmos-2-corruption
SUMMARY:New World Notes - GMOs (2)\: Corruption
DESCRIPTION:<p>&nbsp\;</p>
 
END:VEVENT
BEGIN:VEVENT
DTSTAMP;VALUE=DATE-TIME:20260419T192432Z
DTSTART;VALUE=DATE-TIME:20130308T153000Z
DTEND;VALUE=DATE-TIME:20130308T180000Z
UID:https://wwuh.org/00610-goitse
URL;VALUE=URI:https://wwuh.org/00610-goitse
SUMMARY:Goitse
END:VEVENT
BEGIN:VEVENT
DTSTAMP;VALUE=DATE-TIME:20260419T192432Z
DTSTART;VALUE=DATE-TIME:20130311T090000Z
DTEND;VALUE=DATE-TIME:20130311T120000Z
UID:https://wwuh.org/00738-watch-space-pat-donohue
URL;VALUE=URI:https://wwuh.org/00738-watch-space-pat-donohue
SUMMARY:Watch This Space - Pat Donohue
DESCRIPTION:<p>&nbsp\;</p>
 <p>At around 2\:30 today\, <em>Watch This Space</em> host\, Susan Forbes Hansen\, will air an interview she recorded yesterday with Pat Donohue (<em>A Prairie Home Companion</em>&#39\;s guitarist/songwriter)</p>
 <p>The interview includes Pat doing 7 songs live\, and one song from his recent CD with Butch Thompson.</p>
 
END:VEVENT
END:VCALENDAR
