BEGIN:VCALENDAR
VERSION:2.0
METHOD:PUBLISH
X-WR-CALNAME:wwuh.org |  January 28 2020- February 27 2020
PRODID:-//strange bird labs//Drupal iCal API//EN
BEGIN:VEVENT
DTSTAMP;VALUE=DATE-TIME:20260420T054756Z
DTSTART;VALUE=DATE-TIME:20200129T170000Z
DTEND;VALUE=DATE-TIME:20200129T195900Z
UID:http://wwuh.org/003757-accent-creative-music-william-hooker
URL;VALUE=URI:http://wwuh.org/003757-accent-creative-music-william-hooker
SUMMARY:Accent on Creative Music - William Hooker
DESCRIPTION:<p>Join <em>Accent on Creative Music</em> host Maurice D. Robertson on Wednesday night\, January 29\, 2020\, for an interview at 10 p.m. with drummer\, composer and bandleader William Hooker\, regarding new recording Symphonie of Flowers and other creative endeavors. Join William Hooker on March 15\, at Roulette\, Brooklyn\, New York for his new music\, dance and film project Touch.</p>
 
END:VEVENT
BEGIN:VEVENT
DTSTAMP;VALUE=DATE-TIME:20260420T054756Z
DTSTART;VALUE=DATE-TIME:20200202T090000Z
DTEND;VALUE=DATE-TIME:20200202T123000Z
UID:http://wwuh.org/003759-sunday-afternoon-opera-campra-leurope-galante
URL;VALUE=URI:http://wwuh.org/003759-sunday-afternoon-opera-campra-leurope-galante
SUMMARY:Sunday Afternoon at the Opera - Campra\: L'Europe Galante
DESCRIPTION:<p>&nbsp\;</p>
 <p><em>Sunday Afternoon at the Opera</em> host Keith Brown writes\:</p>
 
END:VEVENT
BEGIN:VEVENT
DTSTAMP;VALUE=DATE-TIME:20260420T054756Z
DTSTART;VALUE=DATE-TIME:20200209T090000Z
DTEND;VALUE=DATE-TIME:20200209T123000Z
UID:http://wwuh.org/003760-sunday-afternoon-opera-benjamin-lessons-love-and-violence-spears-pauls-case
URL;VALUE=URI:http://wwuh.org/003760-sunday-afternoon-opera-benjamin-lessons-love-and-violence-spears-pauls-case
SUMMARY:Sunday Afternoon at the Opera - Benjamin\: Lessons in Love and Violence\; Spears\: Paul's Case
DESCRIPTION:<p>&nbsp\;</p>
 <p><em>Sunday Afternoon at the Opera</em> host Keith Brown writes\:</p>
 
END:VEVENT
BEGIN:VEVENT
DTSTAMP;VALUE=DATE-TIME:20260420T054756Z
DTSTART;VALUE=DATE-TIME:20200216T090000Z
DTEND;VALUE=DATE-TIME:20200216T123000Z
UID:http://wwuh.org/003761-sunday-afternoon-opera-cimarosa-gli-orazii-e-i-curiazii
URL;VALUE=URI:http://wwuh.org/003761-sunday-afternoon-opera-cimarosa-gli-orazii-e-i-curiazii
SUMMARY:Sunday Afternoon at the Opera - Cimarosa\: Gli Orazii e I Curiazii
DESCRIPTION:<p>&nbsp\;</p>
 <p><em>Sunday Afternoon at the Opera</em> host Keith Brown writes\:</p>
 
END:VEVENT
BEGIN:VEVENT
DTSTAMP;VALUE=DATE-TIME:20260420T054756Z
DTSTART;VALUE=DATE-TIME:20200223T090000Z
DTEND;VALUE=DATE-TIME:20200223T123000Z
UID:http://wwuh.org/003762-sunday-afternoon-opera-thomson-lord-byron
URL;VALUE=URI:http://wwuh.org/003762-sunday-afternoon-opera-thomson-lord-byron
SUMMARY:Sunday Afternoon at the Opera - Thomson\: Lord Byron
DESCRIPTION:<p>&nbsp\;</p>
 <p><em>Sunday Afternoon at the Opera</em> host Keith Brown writes\:</p>
 
END:VEVENT
END:VCALENDAR
