BEGIN:VCALENDAR
VERSION:2.0
METHOD:PUBLISH
X-WR-CALNAME:wwuh.org |  December 22 2019- January 21 2020
PRODID:-//strange bird labs//Drupal iCal API//EN
BEGIN:VEVENT
DTSTAMP;VALUE=DATE-TIME:20260420T000716Z
DTSTART;VALUE=DATE-TIME:20191222T090000Z
DTEND;VALUE=DATE-TIME:20191222T123000Z
UID:http://wwuh.org/003567-sunday-afternoon-opera-eybler-die-hirten-bei-der-krippe-zu-bethlehem
URL;VALUE=URI:http://wwuh.org/003567-sunday-afternoon-opera-eybler-die-hirten-bei-der-krippe-zu-bethlehem
SUMMARY:Sunday Afternoon at the Opera - Eybler\: Die Hirten bei der Krippe zu Bethlehem
DESCRIPTION:<p>&nbsp\;</p>
 <p><em>Sunday Afternoon at the Opera</em> host Keith Brown writes\:</p>
 
END:VEVENT
BEGIN:VEVENT
DTSTAMP;VALUE=DATE-TIME:20260420T000716Z
DTSTART;VALUE=DATE-TIME:20191229T090000Z
DTEND;VALUE=DATE-TIME:20191229T123000Z
UID:http://wwuh.org/003568-sunday-afternoon-opera-lehar-der-graf-von-luxemburg-k%C3%A1lm%C3%A1n-ein-herbstman%C3%B6ver
URL;VALUE=URI:http://wwuh.org/003568-sunday-afternoon-opera-lehar-der-graf-von-luxemburg-k%C3%A1lm%C3%A1n-ein-herbstman%C3%B6ver
SUMMARY:Sunday Afternoon at the Opera - Lehar\: Der Graf von Luxemburg\; Kálmán\: Ein Herbstmanöver
DESCRIPTION:<p>&nbsp\;</p>
 <p><em>Sunday Afternoon at the Opera</em> host Keith Brown writes\:</p>
 
END:VEVENT
BEGIN:VEVENT
DTSTAMP;VALUE=DATE-TIME:20260420T000716Z
DTSTART;VALUE=DATE-TIME:20200105T090000Z
DTEND;VALUE=DATE-TIME:20200105T123000Z
UID:http://wwuh.org/003717-sunday-afternoon-opera-verdi-falstaff
URL;VALUE=URI:http://wwuh.org/003717-sunday-afternoon-opera-verdi-falstaff
SUMMARY:Sunday Afternoon at the Opera - Verdi\: Falstaff
DESCRIPTION:<p>&nbsp\;</p>
 <p><em>Sunday Afternoon at the Opera</em> host Keith Brown writes\:</p>
 
END:VEVENT
BEGIN:VEVENT
DTSTAMP;VALUE=DATE-TIME:20260420T000716Z
DTSTART;VALUE=DATE-TIME:20200112T090000Z
DTEND;VALUE=DATE-TIME:20200112T123000Z
UID:http://wwuh.org/003718-sunday-afternoon-opera-salieri-tarare
URL;VALUE=URI:http://wwuh.org/003718-sunday-afternoon-opera-salieri-tarare
SUMMARY:Sunday Afternoon at the Opera - Salieri\: Tarare
DESCRIPTION:<p>&nbsp\;</p>
 <p><em>Sunday Afternoon at the Opera</em> host Keith Brown writes\:</p>
 
END:VEVENT
BEGIN:VEVENT
DTSTAMP;VALUE=DATE-TIME:20260420T000716Z
DTSTART;VALUE=DATE-TIME:20200119T090000Z
DTEND;VALUE=DATE-TIME:20200119T123000Z
UID:http://wwuh.org/003719-sunday-afternoon-opera-karchin-jane-eyre
URL;VALUE=URI:http://wwuh.org/003719-sunday-afternoon-opera-karchin-jane-eyre
SUMMARY:Sunday Afternoon at the Opera - Karchin\: Jane Eyre
DESCRIPTION:<p>&nbsp\;</p>
 <p><em>Sunday Afternoon at the Opera</em> host Keith Brown writes\:</p>
 
END:VEVENT
END:VCALENDAR
