BEGIN:VCALENDAR
VERSION:2.0
METHOD:PUBLISH
X-WR-CALNAME:wwuh.org |  August 01 2013- September 01 2013
PRODID:-//strange bird labs//Drupal iCal API//EN
BEGIN:VEVENT
DTSTAMP;VALUE=DATE-TIME:20260424T105535Z
DTSTART;VALUE=DATE-TIME:20130804T090000Z
DTEND;VALUE=DATE-TIME:20130804T123000Z
UID:http://wwuh.org/00805-sunday-afternoon-opera-mozart-die-entfuhrung-aus-dem-serail-scarlatti-la-dirindina
URL;VALUE=URI:http://wwuh.org/00805-sunday-afternoon-opera-mozart-die-entfuhrung-aus-dem-serail-scarlatti-la-dirindina
SUMMARY:Sunday Afternoon at the Opera - Mozart\: Die Entfuhrung aus dem Serail\; Scarlatti\: La Dirindina
DESCRIPTION:<p>&nbsp\;</p>
 <p><em>Sunday Afternoon at the Opera</em> host Keith Brown writes\:</p>
 
END:VEVENT
BEGIN:VEVENT
DTSTAMP;VALUE=DATE-TIME:20260424T105535Z
DTSTART;VALUE=DATE-TIME:20130808T050000Z
DTEND;VALUE=DATE-TIME:20130808T080000Z
UID:http://wwuh.org/00810-thursday-morning-jazz-gregory-porter
URL;VALUE=URI:http://wwuh.org/00810-thursday-morning-jazz-gregory-porter
SUMMARY:Thursday Morning Jazz - Gregory Porter
DESCRIPTION:<p>&nbsp\;</p>
 <div>
 <p>Gregory Porter is one of most acclaimed jazz vocalists to have emerged during the last decade. He&#39\;ll be making his <a href=\\"http\://www.litchfieldjazzfest.com\\" target=\\"_blank\\">Litchfield Jazz Festival</a> debut at the Goshen Fairgrounds Saturday\, August 10 at 6 p.m.</p>
 </div>
END:VEVENT
BEGIN:VEVENT
DTSTAMP;VALUE=DATE-TIME:20260424T105535Z
DTSTART;VALUE=DATE-TIME:20130811T090000Z
DTEND;VALUE=DATE-TIME:20130811T123000Z
UID:http://wwuh.org/00806-sunday-afternoon-opera-smetana-bartered-bride
URL;VALUE=URI:http://wwuh.org/00806-sunday-afternoon-opera-smetana-bartered-bride
SUMMARY:Sunday Afternoon at the Opera - Smetana\: The Bartered Bride
DESCRIPTION:<p>&nbsp\;</p>
 <p><em>Sunday Afternoon at the Opera</em> host Keith Brown writes\:</p>
 
END:VEVENT
BEGIN:VEVENT
DTSTAMP;VALUE=DATE-TIME:20260424T105535Z
DTSTART;VALUE=DATE-TIME:20130813T050000Z
DTEND;VALUE=DATE-TIME:20130813T080000Z
UID:http://wwuh.org/00811-out-here-beyond-new-haven-jazz-festival
URL;VALUE=URI:http://wwuh.org/00811-out-here-beyond-new-haven-jazz-festival
SUMMARY:Out Here & Beyond - New Haven Jazz Festival
DESCRIPTION:<p>&nbsp\;</p>
 
END:VEVENT
BEGIN:VEVENT
DTSTAMP;VALUE=DATE-TIME:20260424T105535Z
DTSTART;VALUE=DATE-TIME:20130818T090000Z
DTEND;VALUE=DATE-TIME:20130818T123000Z
UID:http://wwuh.org/00807-sunday-afternoon-opera-lehar-das-land-des-lachelns
URL;VALUE=URI:http://wwuh.org/00807-sunday-afternoon-opera-lehar-das-land-des-lachelns
SUMMARY:Sunday Afternoon at the Opera - Lehar\: Das Land des Lachelns
DESCRIPTION:<p>&nbsp\;</p>
 <p><em>Sunday Afternoon at the Opera</em>&nbsp\;host Keith Brown writes\:</p>
 
END:VEVENT
BEGIN:VEVENT
DTSTAMP;VALUE=DATE-TIME:20260424T105535Z
DTSTART;VALUE=DATE-TIME:20130822T120000Z
DTEND;VALUE=DATE-TIME:20130822T153000Z
UID:http://wwuh.org/00812-thursday-evening-classics-mass-movements-bach
URL;VALUE=URI:http://wwuh.org/00812-thursday-evening-classics-mass-movements-bach
SUMMARY:Thursday Evening Classics - \\"Mass Movements\\" by Bach
DESCRIPTION:<p>&nbsp\;</p>
 <p>Join Thursday Evening Classics fill-in host David Schonfeld for an all-Bach program (cleverly) entitled &quot\;Mass Movements&quot\;.</p>
 
END:VEVENT
BEGIN:VEVENT
DTSTAMP;VALUE=DATE-TIME:20260424T105535Z
DTSTART;VALUE=DATE-TIME:20130825T090000Z
DTEND;VALUE=DATE-TIME:20130825T123000Z
UID:http://wwuh.org/00808-sunday-afternoon-opera-delius-fennimore-and-gerda
URL;VALUE=URI:http://wwuh.org/00808-sunday-afternoon-opera-delius-fennimore-and-gerda
SUMMARY:Sunday Afternoon at the Opera - Delius\: Fennimore and Gerda
DESCRIPTION:<p>&nbsp\;</p>
 <p><em>Sunday Afternoon at the Opera</em>&nbsp\;host Keith Brown writes\:</p>
 <p>Each summer on the last Sunday in August\, I broadcast one of the six operas of Frederick Delius (1862-1934) because Delius&#39\; exquisitely impressionistic style of music is so evocative of the lazy\, hazy end of summertime.</p>
 
END:VEVENT
BEGIN:VEVENT
DTSTAMP;VALUE=DATE-TIME:20260424T105535Z
DTSTART;VALUE=DATE-TIME:20130827T080000Z
DTEND;VALUE=DATE-TIME:20130827T083000Z
UID:http://wwuh.org/00818-new-world-notes-michael-parenti-costs-empire-part-2-2
URL;VALUE=URI:http://wwuh.org/00818-new-world-notes-michael-parenti-costs-empire-part-2-2
SUMMARY:New World Notes - Michael Parenti on The Costs of Empire (Part 2 of 2)
DESCRIPTION:<p>&nbsp\;</p>
 
END:VEVENT
END:VCALENDAR
