BEGIN:VCALENDAR
VERSION:2.0
METHOD:PUBLISH
X-WR-CALNAME:wwuh.org |  January 11 2013- February 10 2013
PRODID:-//strange bird labs//Drupal iCal API//EN
BEGIN:VEVENT
DTSTAMP;VALUE=DATE-TIME:20260422T221825Z
DTSTART;VALUE=DATE-TIME:20130113T090000Z
DTEND;VALUE=DATE-TIME:20130113T123000Z
UID:http://wwuh.org/00702-sunday-afternoon-opera-harbison-winters-tale-hersch-leaves-grass
URL;VALUE=URI:http://wwuh.org/00702-sunday-afternoon-opera-harbison-winters-tale-hersch-leaves-grass
SUMMARY:Sunday Afternoon at the Opera - Harbison\: Winter's Tale\; Hersch\: Leaves of Grass
DESCRIPTION:<p>&nbsp\;</p>
 <p><em>Host Keith Brown writes\:</em></p>
 <p>Keep Shakespeare in mind as you listen this Sunday to a twentieth-century operatic treatment of another one of his famous plays\, and then a musical setting of verse by America&#39\;s great gay bard.</p>
 
END:VEVENT
BEGIN:VEVENT
DTSTAMP;VALUE=DATE-TIME:20260422T221825Z
DTSTART;VALUE=DATE-TIME:20130115T080000Z
DTEND;VALUE=DATE-TIME:20130115T083000Z
UID:http://wwuh.org/00705-new-world-notes-jobs
URL;VALUE=URI:http://wwuh.org/00705-new-world-notes-jobs
SUMMARY:New World Notes - Jobs
DESCRIPTION:<p>&nbsp\;</p>
 <p>This week on&nbsp\;<a href=\\"http\://newworldnotes.blogspot.com/\\" target=\\"_blank\\">New World Notes</a>\: radio program #254\, January 15\, 2013\, from 12\:00 to 12\:30 p.m.\, host Kenneth Dowst looks at the issue of jobs.</p>
 
END:VEVENT
BEGIN:VEVENT
DTSTAMP;VALUE=DATE-TIME:20260422T221825Z
DTSTART;VALUE=DATE-TIME:20130120T090800Z
DTEND;VALUE=DATE-TIME:20130120T123000Z
UID:http://wwuh.org/00706-sunday-afternoon-opera-wagner-lohengrin
URL;VALUE=URI:http://wwuh.org/00706-sunday-afternoon-opera-wagner-lohengrin
SUMMARY:Sunday Afternoon at the Opera - Wagner\: Lohengrin
DESCRIPTION:<p>&nbsp\;</p>
 <p>Host Keith Brown writes\:</p>
 <p>This\, Wagner&#39\;s most popular opera\, looks forward in its handling of the Grail legend to <em>Parsifal</em>. Wagner entrusted its premiere in 1850 to Franz Liszt\, who conducted it in musically complete form at the court theater in Weimar\, Germany. (Wagner was then in political exile in Switzerland.)</p>
 
END:VEVENT
BEGIN:VEVENT
DTSTAMP;VALUE=DATE-TIME:20260422T221825Z
DTSTART;VALUE=DATE-TIME:20130122T080000Z
DTEND;VALUE=DATE-TIME:20130122T083000Z
UID:http://wwuh.org/00709-new-world-notes-mlk-vs-war-machine
URL;VALUE=URI:http://wwuh.org/00709-new-world-notes-mlk-vs-war-machine
SUMMARY:New World Notes - MLK vs. the War Machine
DESCRIPTION:<p>&nbsp\;</p>
 <p>This week on&nbsp\;<a href=\\"http\://newworldnotes.blogspot.com/\\" target=\\"_blank\\">New World Notes</a>\: radio program #255\, January 22\, 2013\, from 12\:00 to 12\:30 p.m.\, host Kenneth Dowst celebrates Martin Luther King\, who was not just a civil rights champion but an anti-war crusader.</p>
 
END:VEVENT
BEGIN:VEVENT
DTSTAMP;VALUE=DATE-TIME:20260422T221825Z
DTSTART;VALUE=DATE-TIME:20130123T170000Z
DTEND;VALUE=DATE-TIME:20130123T195900Z
UID:http://wwuh.org/00713-accent-creative-music-conga-bop
URL;VALUE=URI:http://wwuh.org/00713-accent-creative-music-conga-bop
SUMMARY:Accent on Creative Music - Conga Bop
DESCRIPTION:<p>&nbsp\;</p>
 <p>Join host Maurice D. Robertson for <em>Accent on Creative Music</em>\, this Wednesday\, January 23 from 9 p.m. to midnight. At about 10 p.m.\, Maurice will be joined in in the studio by percussionist\, Ed Fast\, and guitarist\, Atticus Kelly\, of Conga Bop.</p>
 
END:VEVENT
BEGIN:VEVENT
DTSTAMP;VALUE=DATE-TIME:20260422T221825Z
DTSTART;VALUE=DATE-TIME:20130127T090000Z
DTEND;VALUE=DATE-TIME:20130127T123000Z
UID:http://wwuh.org/00710-sunday-afternoon-opera-lully-proserpine
URL;VALUE=URI:http://wwuh.org/00710-sunday-afternoon-opera-lully-proserpine
SUMMARY:Sunday Afternoon at the Opera - Lully\: Proserpine
DESCRIPTION:<p>&nbsp\;</p>
 <p>Host Keith Brown writes\:</p>
 <p>In past programming I offered a long series of operas of the French baroque\, as recordings of them became available. The great innovator of French baroque opera was not a Frenchman by birth\, but an Italian from Florence whose name originally was Giovanni Battista Lulli\, francophied into Jean Baptiste Lully (1632-87).</p>
 
END:VEVENT
BEGIN:VEVENT
DTSTAMP;VALUE=DATE-TIME:20260422T221825Z
DTSTART;VALUE=DATE-TIME:20130129T080000Z
DTEND;VALUE=DATE-TIME:20130129T083000Z
UID:http://wwuh.org/00715-new-world-notes-richard-heinberg-global-crises-and-end-growth-part-1
URL;VALUE=URI:http://wwuh.org/00715-new-world-notes-richard-heinberg-global-crises-and-end-growth-part-1
SUMMARY:New World Notes - Richard Heinberg on Global Crises and the End of Growth\, Part 1
DESCRIPTION:<p>&nbsp\;</p>
 <p>This week on&nbsp\;<a href=\\"http\://newworldnotes.blogspot.com/\\" target=\\"_blank\\">New World Notes</a>\: radio program #256\, January 29\, 2013\, from 12\:00 to 12\:30 p.m.\, host Kenneth Dowst excerpts a recent talk by <a href=\\"http\://richardheinberg.com/\\" target=\\"_blank\\">Richard Heinberg</a>.</p>
 
END:VEVENT
BEGIN:VEVENT
DTSTAMP;VALUE=DATE-TIME:20260422T221825Z
DTSTART;VALUE=DATE-TIME:20130201T153000Z
DTEND;VALUE=DATE-TIME:20130201T180000Z
UID:http://wwuh.org/00681-cathie-ryan-band
URL;VALUE=URI:http://wwuh.org/00681-cathie-ryan-band
SUMMARY:Cathie Ryan Band
END:VEVENT
BEGIN:VEVENT
DTSTAMP;VALUE=DATE-TIME:20260422T221825Z
DTSTART;VALUE=DATE-TIME:20130203T090000Z
DTEND;VALUE=DATE-TIME:20130203T123000Z
UID:http://wwuh.org/00711-sunday-afternoon-opera-strauss-elektra
URL;VALUE=URI:http://wwuh.org/00711-sunday-afternoon-opera-strauss-elektra
SUMMARY:Sunday Afternoon at the Opera - Strauss\: Elektra
DESCRIPTION:<p>&nbsp\;</p>
 <p>Host Keith Brown writes\:</p>
 <p>This will be the fourth time over a span of more than two decades when I will be presenting Richard Strauss&#39\; <em>Elektra </em>(1909)\, his operatic take on the ancient Greek tragedy\, derived ultimately from Sophocles&#39\; drama\, reworked by Hugo von Hofmannsthal into a German language play in 1903.</p>
 
END:VEVENT
BEGIN:VEVENT
DTSTAMP;VALUE=DATE-TIME:20260422T221825Z
DTSTART;VALUE=DATE-TIME:20130205T080000Z
DTEND;VALUE=DATE-TIME:20130205T083000Z
UID:http://wwuh.org/00717-new-world-notes-richard-heinberg-global-crises-and-end-growth-part-2
URL;VALUE=URI:http://wwuh.org/00717-new-world-notes-richard-heinberg-global-crises-and-end-growth-part-2
SUMMARY:New World Notes - Richard Heinberg on Global Crises and the End of Growth\, Part 2
DESCRIPTION:<p>&nbsp\;</p>
 <p>This week on&nbsp\;<a href=\\"http\://newworldnotes.blogspot.com/\\" target=\\"_blank\\">New World Notes</a>\: radio program #257\, February 5\, 2013\, from 12\:00 to 12\:30 p.m.\, host Kenneth Dowst excerpts a recent talk by <a href=\\"http\://richardheinberg.com/\\" target=\\"_blank\\">Richard Heinberg</a>.</p>
 
END:VEVENT
BEGIN:VEVENT
DTSTAMP;VALUE=DATE-TIME:20260422T221825Z
DTSTART;VALUE=DATE-TIME:20130205T120000Z
DTEND;VALUE=DATE-TIME:20130205T160000Z
UID:http://wwuh.org/00716-tuesday-evening-classics-ira-braus
URL;VALUE=URI:http://wwuh.org/00716-tuesday-evening-classics-ira-braus
SUMMARY:Tuesday Evening Classics - Ira Braus
DESCRIPTION:<p>&nbsp\;</p>
 <p>On February 5\, Tuesday Evening Classics from 6-7 p.m.\, host David Schonfeld will have as his guest in the studio Professor Ira Braus of the Hartt School of Music.</p>
 
END:VEVENT
END:VCALENDAR
