BEGIN:VCALENDAR
VERSION:2.0
METHOD:PUBLISH
X-WR-CALNAME:wwuh.org |  December 04 2012- January 03 2013
PRODID:-//strange bird labs//Drupal iCal API//EN
BEGIN:VEVENT
DTSTAMP;VALUE=DATE-TIME:20260422T161251Z
DTSTART;VALUE=DATE-TIME:20121204T050000Z
DTEND;VALUE=DATE-TIME:20121204T080000Z
UID:http://wwuh.org/00689-out-here-and-beyond-jaimoe-and-david-stoltz
URL;VALUE=URI:http://wwuh.org/00689-out-here-and-beyond-jaimoe-and-david-stoltz
SUMMARY:Out Here and Beyond - Jaimoe and David Stoltz
DESCRIPTION:<p>&nbsp\;</p>
 
END:VEVENT
BEGIN:VEVENT
DTSTAMP;VALUE=DATE-TIME:20260422T161251Z
DTSTART;VALUE=DATE-TIME:20121204T080000Z
DTEND;VALUE=DATE-TIME:20121204T083000Z
UID:http://wwuh.org/00688-new-world-notes-censored-news
URL;VALUE=URI:http://wwuh.org/00688-new-world-notes-censored-news
SUMMARY:New World Notes - The Censored News
DESCRIPTION:<p>&nbsp\;</p>
 <p>This week on&nbsp\;<a href=\\"http\://newworldnotes.blogspot.com/\\" target=\\"_blank\\">New World Notes</a>\: radio program #248\, December 4\, from 12\:00 to 12\:30 p.m.\, host Kenneth Dowst excerpts a talk by Mickey Huff\, Director of <a href=\\"http\://www. projectcensored.org\\" target=\\"_blank\\">Project Censored</a>.</p>
 
END:VEVENT
BEGIN:VEVENT
DTSTAMP;VALUE=DATE-TIME:20260422T161251Z
DTSTART;VALUE=DATE-TIME:20121211T050000Z
DTEND;VALUE=DATE-TIME:20121211T080000Z
UID:http://wwuh.org/00691-out-here-and-beyond-thomas-chapin-remembered
URL;VALUE=URI:http://wwuh.org/00691-out-here-and-beyond-thomas-chapin-remembered
SUMMARY:Out Here and Beyond - Thomas Chapin remembered
DESCRIPTION:<p>&nbsp\;</p>
 <p>Manchester\, CT native Thomas Chapin is remembered as one of the most innovative jazz artists of his generation. Now\, nearly 15 years after his death\, a film documentary about his life is being produced\, and a new set of live 1995 recordings will be issued on December 11.</p>
 
END:VEVENT
BEGIN:VEVENT
DTSTAMP;VALUE=DATE-TIME:20260422T161251Z
DTSTART;VALUE=DATE-TIME:20121211T080000Z
DTEND;VALUE=DATE-TIME:20121211T083000Z
UID:http://wwuh.org/00690-new-world-notes-surviving-collapse
URL;VALUE=URI:http://wwuh.org/00690-new-world-notes-surviving-collapse
SUMMARY:New World Notes - Surviving the Collapse
DESCRIPTION:<p>&nbsp\;</p>
 <p>This week on&nbsp\;<a href=\\"http\://newworldnotes.blogspot.com/\\" target=\\"_blank\\">New World Notes</a>\: radio program #249\, December 11\, from 12\:00 to 12\:30 p.m.\, host Kenneth Dowst plays an audio excerpt from Chris Smith&#39\;s 2009 film\, <em>Collapse</em>.</p>
 
END:VEVENT
BEGIN:VEVENT
DTSTAMP;VALUE=DATE-TIME:20260422T161251Z
DTSTART;VALUE=DATE-TIME:20121218T080000Z
DTEND;VALUE=DATE-TIME:20121218T083000Z
UID:http://wwuh.org/00692-new-world-notes-michael-ruppert-peak-oil
URL;VALUE=URI:http://wwuh.org/00692-new-world-notes-michael-ruppert-peak-oil
SUMMARY:New World Notes - Michael Ruppert on Peak Oil
DESCRIPTION:<p>&nbsp\;</p>
 <p>This week on&nbsp\;<a href=\\"http\://newworldnotes.blogspot.com/\\" target=\\"_blank\\">New World Notes</a>\: radio program #250\, December 18\, from 12\:00 to 12\:30 p.m.\, host Kenneth Dowst plays an audio excerpt from Chris Smith&#39\;s 2009 film\, <em>Collapse</em>.</p>
 
END:VEVENT
BEGIN:VEVENT
DTSTAMP;VALUE=DATE-TIME:20260422T161251Z
DTSTART;VALUE=DATE-TIME:20121219T170000Z
DTEND;VALUE=DATE-TIME:20121219T195900Z
UID:http://wwuh.org/00693-accent-creative-music-steve-davis-eli-williams
URL;VALUE=URI:http://wwuh.org/00693-accent-creative-music-steve-davis-eli-williams
SUMMARY:Accent on Creative Music - Steve Davis & Eli Williams
DESCRIPTION:<p>&nbsp\;</p>
 <p>On Wednesday\, December 19\, at 10 p.m.\, Join Maurice D.Robertson host of <em>Accent on Creative Music</em>\, for a live interview with trombonist\, Steve Davis and blues guitarist\, Eli Williams. They will discuss their upcoming December 22 holiday performance as ell as their current music projects.</p>
 
END:VEVENT
BEGIN:VEVENT
DTSTAMP;VALUE=DATE-TIME:20260422T161251Z
DTSTART;VALUE=DATE-TIME:20121225T080000Z
DTEND;VALUE=DATE-TIME:20121225T083000Z
UID:http://wwuh.org/00694-new-world-notes-comic-satire-christmas
URL;VALUE=URI:http://wwuh.org/00694-new-world-notes-comic-satire-christmas
SUMMARY:New World Notes - Comic Satire for Christmas
DESCRIPTION:<p>&nbsp\;</p>
 <p>This week on&nbsp\;<a href=\\"http\://newworldnotes.blogspot.com/\\" target=\\"_blank\\">New World Notes</a>\: radio program #251\, December 25\, from 12\:00 to 12\:30 p.m.\, host Kenneth Dowst takes a comic but critical look at American hypocrisies\, religiosity\, commercialism\, class warfare\, and other Christmastime traditions.</p>
 
END:VEVENT
BEGIN:VEVENT
DTSTAMP;VALUE=DATE-TIME:20260422T161251Z
DTSTART;VALUE=DATE-TIME:20121225T120000Z
DTEND;VALUE=DATE-TIME:20121225T160000Z
UID:http://wwuh.org/00695-tuesday-evening-classics-classical-christmas
URL;VALUE=URI:http://wwuh.org/00695-tuesday-evening-classics-classical-christmas
SUMMARY:Tuesday Evening Classics - A Classical Christmas
DESCRIPTION:<p>&nbsp\;</p>
 <p>Join host David Schonfeld from 4\:00 to 8\:00 p.m. on Christmas Day for &quot\;A Classical Christmas&quot\;. David will play excerpts from some of the hundreds of disks devoted to music of the Christmas season in our vast classical library.</p>
 
END:VEVENT
BEGIN:VEVENT
DTSTAMP;VALUE=DATE-TIME:20260422T161251Z
DTSTART;VALUE=DATE-TIME:20121230T090000Z
DTEND;VALUE=DATE-TIME:20121230T123000Z
UID:http://wwuh.org/00698-sunday-afternoon-opera-haydn-die-sch%C3%B6pfung
URL;VALUE=URI:http://wwuh.org/00698-sunday-afternoon-opera-haydn-die-sch%C3%B6pfung
SUMMARY:Sunday Afternoon at the Opera - Haydn\: Die Schöpfung
DESCRIPTION:<p>&nbsp\;</p>
 <p><em>Sunday Afternoon at the Opera</em> Host Keith Brown writes\:</p>
 <p>The year has rolled around to its conclusion\: now&#39\;s a good time to reflect upon all that has transpired in 2012 by listening to something that takes in the whole world in a single monumental musical composition.</p>
 
END:VEVENT
BEGIN:VEVENT
DTSTAMP;VALUE=DATE-TIME:20260422T161251Z
DTSTART;VALUE=DATE-TIME:20121231T120000Z
DTEND;VALUE=DATE-TIME:20121231T160000Z
UID:http://wwuh.org/00696-monday-evening-classics-departed-not-forgotten
URL;VALUE=URI:http://wwuh.org/00696-monday-evening-classics-departed-not-forgotten
SUMMARY:Monday Evening Classics - Departed but Not Forgotten
DESCRIPTION:<p>&nbsp\;</p>
 <p>On this final Evening Classics of 2012\, guest host David Schonfeld salutes some of the many great musicians and composers who passed away this year.</p>
 <p>Among the composers whose works we will sample are\: Elliott Carter\, Hans Werner Henze\, Richard Rodney Bennett\, Ravi Shankar\, Marvin Hamlisch\, and Dave Brubeck.</p>
 
END:VEVENT
BEGIN:VEVENT
DTSTAMP;VALUE=DATE-TIME:20260422T161251Z
DTSTART;VALUE=DATE-TIME:20130101T080000Z
DTEND;VALUE=DATE-TIME:20130101T083000Z
UID:http://wwuh.org/00699-new-world-notes-crime-potpourri
URL;VALUE=URI:http://wwuh.org/00699-new-world-notes-crime-potpourri
SUMMARY:New World Notes - Crime Potpourri
DESCRIPTION:<p>&nbsp\;</p>
 <p>This week on&nbsp\;<a href=\\"http\://newworldnotes.blogspot.com/\\" target=\\"_blank\\">New World Notes</a>\: radio program #252\, January 1\, 2013\, from 12\:00 to 12\:30 p.m.\, host Kenneth Dowst looks at crime on several levels\: retail (the Newtown murders)\, wholesale (the entertainment industry)\, bigger wholesale (the financial system)\, and factory-direct (the Federal Government).</p>
 
END:VEVENT
BEGIN:VEVENT
DTSTAMP;VALUE=DATE-TIME:20260422T161251Z
DTSTART;VALUE=DATE-TIME:20130101T120000Z
DTEND;VALUE=DATE-TIME:20130101T160000Z
UID:http://wwuh.org/00697-tuesday-evening-classics-opus-one
URL;VALUE=URI:http://wwuh.org/00697-tuesday-evening-classics-opus-one
SUMMARY:Tuesday Evening Classics - Opus One
DESCRIPTION:<p>&nbsp\;</p>
 <p>Join host David Schonfeld for the first Evening Classics of the New Year. Appropriately for Day 1 of 2013\, David will play some of the many fine compositions published as Opus 1.</p>
 
END:VEVENT
END:VCALENDAR
