BEGIN:VCALENDAR
VERSION:2.0
METHOD:PUBLISH
X-WR-CALNAME:wwuh.org |  October 23 2012- November 22 2012
PRODID:-//strange bird labs//Drupal iCal API//EN
BEGIN:VEVENT
DTSTAMP;VALUE=DATE-TIME:20260422T103640Z
DTSTART;VALUE=DATE-TIME:20121023T080000Z
DTEND;VALUE=DATE-TIME:20121023T083000Z
UID:http://wwuh.org/00671-new-world-notes-dave-zirin-american-football
URL;VALUE=URI:http://wwuh.org/00671-new-world-notes-dave-zirin-american-football
SUMMARY:New World Notes - Dave Zirin on American Football
DESCRIPTION:<p>&nbsp\;</p>
 <div>
 <p>This week on&nbsp\;<a href=\\"http\://newworldnotes.blogspot.com/\\" target=\\"_blank\\">New World Notes</a>\: radio program #243\, October 23\, from 12\:00 to 12\:30 p.m.\, host Kenneth Dowst excerpts a talk by&nbsp\;Dave Zirin on American Football.</p>
 </div>
END:VEVENT
BEGIN:VEVENT
DTSTAMP;VALUE=DATE-TIME:20260422T103640Z
DTSTART;VALUE=DATE-TIME:20121028T090000Z
DTEND;VALUE=DATE-TIME:20121028T123000Z
UID:http://wwuh.org/00668-sunday-afternoon-opera-wagner-der-fliegende-holl%C3%A4nder
URL;VALUE=URI:http://wwuh.org/00668-sunday-afternoon-opera-wagner-der-fliegende-holl%C3%A4nder
SUMMARY:Sunday Afternoon at the Opera - Wagner\: Der Fliegende Holländer
DESCRIPTION:<p>&nbsp\;</p>
 <div>
 <p>Host Keith Brown writes\:</p>
 </div>
END:VEVENT
BEGIN:VEVENT
DTSTAMP;VALUE=DATE-TIME:20260422T103640Z
DTSTART;VALUE=DATE-TIME:20121030T080000Z
DTEND;VALUE=DATE-TIME:20121030T083000Z
UID:http://wwuh.org/00672-new-world-notes-surprising-power-people
URL;VALUE=URI:http://wwuh.org/00672-new-world-notes-surprising-power-people
SUMMARY:New World Notes - The Surprising Power of the People
DESCRIPTION:<p>&nbsp\;</p>
 <div>
 <p>This week on&nbsp\;<a href=\\"http\://newworldnotes.blogspot.com/\\" target=\\"_blank\\">New World Notes</a>\: radio program #243\, October 30\, from 12\:00 to 12\:30 p.m.\, host Kenneth Dowst takes an (uncharacteristically) optimisitic view of our prospects.</p>
 </div>
END:VEVENT
BEGIN:VEVENT
DTSTAMP;VALUE=DATE-TIME:20260422T103640Z
DTSTART;VALUE=DATE-TIME:20121103T150000Z
DTEND;VALUE=DATE-TIME:20121103T180000Z
UID:http://wwuh.org/00658-echo-drake-concert-ocotal
URL;VALUE=URI:http://wwuh.org/00658-echo-drake-concert-ocotal
SUMMARY:Echo & Drake - The Concert for Ocotal
DESCRIPTION:<p>&nbsp\;</p>
 <table align=\\"left\\" cellpadding=\\"0\\" cellspacing=\\"0\\" hspace=\\"0\\" vspace=\\"0\\">
 <tbody>
 <tr>
 <td align=\\"left\\">
 <p align=\\"center\\"><em>Selected in 2012 as Best Overall Band&nbsp\;</em><em>by the Advocate Newspapers</em></p>
 <p align=\\"center\\"><strong>Echo &amp\; Drake</strong></p>
 <p align=\\"center\\"><em>will perform in a benefit for the</em></p>
 </td></tr></tbody></table>
END:VEVENT
BEGIN:VEVENT
DTSTAMP;VALUE=DATE-TIME:20260422T103640Z
DTSTART;VALUE=DATE-TIME:20121104T090000Z
DTEND;VALUE=DATE-TIME:20121104T123000Z
UID:http://wwuh.org/00677-sunday-afternoon-opera-verdi-don-carlo
URL;VALUE=URI:http://wwuh.org/00677-sunday-afternoon-opera-verdi-don-carlo
SUMMARY:Sunday Afternoon at the Opera - Verdi\: Don Carlo
DESCRIPTION:<p>&nbsp\;</p>
 <p>Host Keith Brown writes\:</p>
 
END:VEVENT
BEGIN:VEVENT
DTSTAMP;VALUE=DATE-TIME:20260422T103640Z
DTSTART;VALUE=DATE-TIME:20121106T080000Z
DTEND;VALUE=DATE-TIME:20121106T083000Z
UID:http://wwuh.org/00680-new-world-notes-firesign-theatre
URL;VALUE=URI:http://wwuh.org/00680-new-world-notes-firesign-theatre
SUMMARY:New World Notes - The Firesign Theatre
DESCRIPTION:<p>&nbsp\;</p>
 
END:VEVENT
BEGIN:VEVENT
DTSTAMP;VALUE=DATE-TIME:20260422T103640Z
DTSTART;VALUE=DATE-TIME:20121111T090000Z
DTEND;VALUE=DATE-TIME:20121111T123000Z
UID:http://wwuh.org/00678-sunday-afternoon-opera-2-requiems
URL;VALUE=URI:http://wwuh.org/00678-sunday-afternoon-opera-2-requiems
SUMMARY:Sunday Afternoon at the Opera - 2 Requiems
DESCRIPTION:<p>&nbsp\;</p>
 <p>Host Keith Brown writes\:</p>
 <p>This Sunday is Armistice Day\, the day in 1918 when World War I officially ended. Known as Veterans&#39\; Day in the United States\, it honors those Americans who fought in all the wars in America&#39\;s history. I have programmed two requiems for today\, by Benjamin Britten and J.C. Bach.</p>
 
END:VEVENT
BEGIN:VEVENT
DTSTAMP;VALUE=DATE-TIME:20260422T103640Z
DTSTART;VALUE=DATE-TIME:20121113T080000Z
DTEND;VALUE=DATE-TIME:20121113T083000Z
UID:http://wwuh.org/00682-new-world-notes-noam-chomsky-three-short-talks
URL;VALUE=URI:http://wwuh.org/00682-new-world-notes-noam-chomsky-three-short-talks
SUMMARY:New World Notes - Noam Chomsky\: Three Short Talks
DESCRIPTION:<p>&nbsp\;</p>
 <div>
 <p>This week on&nbsp\;<a href=\\"http\://newworldnotes.blogspot.com/\\" target=\\"_blank\\">New World Notes</a>\: radio program #245\, November 13\, from 12\:00 to 12\:30 p.m.\, host Kenneth Dowst excerts three talks by Noam Chomsky.</p>
 </div>
END:VEVENT
BEGIN:VEVENT
DTSTAMP;VALUE=DATE-TIME:20260422T103640Z
DTSTART;VALUE=DATE-TIME:20121116T153000Z
DTEND;VALUE=DATE-TIME:20121116T180000Z
UID:http://wwuh.org/00577-runa
URL;VALUE=URI:http://wwuh.org/00577-runa
SUMMARY:Runa
END:VEVENT
BEGIN:VEVENT
DTSTAMP;VALUE=DATE-TIME:20260422T103640Z
DTSTART;VALUE=DATE-TIME:20121116T153000Z
DTEND;VALUE=DATE-TIME:20121116T180000Z
UID:http://wwuh.org/00675-usaf-academy-rock-band-blue-steel
URL;VALUE=URI:http://wwuh.org/00675-usaf-academy-rock-band-blue-steel
SUMMARY:USAF Academy Rock Band BLUE STEEL
DESCRIPTION:<p class=\\"rtecenter\\" style=\\"\\"><span style=\\"font-size\: 18px\; \\">United States Air Force Academy Rock Band</span></p>
 <p class=\\"rtecenter\\" style=\\"\\"><span style=\\"font-size\: 24px\; \\"><a href=\\"http\://www.usafacademyband.af.mil/ensembles/BandEnsembleBio.asp?EnsembleID=19\\" target=\\"_blank\\">BLUE STEEL</a></span></p>
 
END:VEVENT
BEGIN:VEVENT
DTSTAMP;VALUE=DATE-TIME:20260422T103640Z
DTSTART;VALUE=DATE-TIME:20121120T080000Z
DTEND;VALUE=DATE-TIME:20121120T083000Z
UID:http://wwuh.org/00683-new-world-notes-class-health-health-care-part-1-2
URL;VALUE=URI:http://wwuh.org/00683-new-world-notes-class-health-health-care-part-1-2
SUMMARY:New World Notes - Class\, Health\, & Health Care (Part 1 of 2)
DESCRIPTION:<p>&nbsp\;</p>
 <p>This week on&nbsp\;<a href=\\"http\://newworldnotes.blogspot.com/\\" target=\\"_blank\\">New World Notes</a>\: radio program #246\, November 20\, from 12\:00 to 12\:30 p.m.\, host Kenneth Dowst replays Part 1 of an interview with health care reformer Dr. Susan Rosenthal\, author of <em>Sick and Sicker</em>.</p>
 
END:VEVENT
END:VCALENDAR
