BEGIN:VCALENDAR
VERSION:2.0
METHOD:PUBLISH
X-WR-CALNAME:wwuh.org |  October 02 2012- November 01 2012
PRODID:-//strange bird labs//Drupal iCal API//EN
BEGIN:VEVENT
DTSTAMP;VALUE=DATE-TIME:20260422T085942Z
DTSTART;VALUE=DATE-TIME:20121002T080000Z
DTEND;VALUE=DATE-TIME:20121002T083000Z
UID:http://wwuh.org/00647-new-world-notes-crisis-civilization-part-1
URL;VALUE=URI:http://wwuh.org/00647-new-world-notes-crisis-civilization-part-1
SUMMARY:New World Notes - The Crisis of Civilization (Part 1)
DESCRIPTION:<p>&nbsp\;</p>
 <p>This week on&nbsp\;<a href=\\"http\://newworldnotes.blogspot.com/\\" target=\\"_blank\\">New World Notes</a>\: radio program #238\, September 25\, from 12\:00 to 12\:30 p.m.\, host Kenneth Dowst plays the first part of a two-part digest of an engaging documentary film\, <em>The Crisis of Civilization</em>\, written by U.K. political analyst\, Nafeez Mossadeq Ahmed.</p>
 
END:VEVENT
BEGIN:VEVENT
DTSTAMP;VALUE=DATE-TIME:20260422T085942Z
DTSTART;VALUE=DATE-TIME:20121002T120000Z
DTEND;VALUE=DATE-TIME:20121002T160000Z
UID:http://wwuh.org/00652-tuesday-evening-classics-tempesta-di-mare-and-emlyn-ngai
URL;VALUE=URI:http://wwuh.org/00652-tuesday-evening-classics-tempesta-di-mare-and-emlyn-ngai
SUMMARY:Tuesday Evening Classics - Tempesta di Mare and Emlyn Ngai
DESCRIPTION:<p>&nbsp\;</p>
 
END:VEVENT
BEGIN:VEVENT
DTSTAMP;VALUE=DATE-TIME:20260422T085942Z
DTSTART;VALUE=DATE-TIME:20121004T150000Z
DTEND;VALUE=DATE-TIME:20121004T180000Z
UID:http://wwuh.org/00654-susan-lindauer-speaks-patriot-act-and-cover-ups-911-and-iraq
URL;VALUE=URI:http://wwuh.org/00654-susan-lindauer-speaks-patriot-act-and-cover-ups-911-and-iraq
SUMMARY:Susan Lindauer speaks on the Patriot Act and the Cover Ups of 9/11 and Iraq
DESCRIPTION:<p>&nbsp\;</p>
 <p>On Thursday evening\, October 4\, at 7 p.m.\, author and former CIA &quot\;asset&quot\;\, Susan Lindauer\, will speak at Wilde Auditorium\, University of Hartford. The talk is free and open to the public. Ms. Lindauer recently wrote a book\, <em>Extreme Prejudice</em>\, detailing her shocking experiences as an insider in the &quot\;war on terror&quot\;.</p>
 
END:VEVENT
BEGIN:VEVENT
DTSTAMP;VALUE=DATE-TIME:20260422T085942Z
DTSTART;VALUE=DATE-TIME:20121006T130000Z
DTEND;VALUE=DATE-TIME:20121006T190000Z
UID:http://wwuh.org/00645-live-jazz-music-tools
URL;VALUE=URI:http://wwuh.org/00645-live-jazz-music-tools
SUMMARY:Live Jazz - Music at TOOLS!
DESCRIPTION:<p>&nbsp\;</p>
 <p>Music at TOOLS!</p>
 <p>In an historic gathering\, <a href=\\"http\://www.williamhooker.com\\" target=\\"_blank\\">William Hooker</a>\, iconic New York musician and proud New Britain native\, will bring together internationally known New York and Connecticut musicians in support and celebration of New Britain - a creative force in Connecticut.</p>
 
END:VEVENT
BEGIN:VEVENT
DTSTAMP;VALUE=DATE-TIME:20260422T085942Z
DTSTART;VALUE=DATE-TIME:20121007T090000Z
DTEND;VALUE=DATE-TIME:20121007T123000Z
UID:http://wwuh.org/00651-sunday-afternoon-opera-mozart-idomemeo
URL;VALUE=URI:http://wwuh.org/00651-sunday-afternoon-opera-mozart-idomemeo
SUMMARY:Sunday Afternoon at the Opera - Mozart\: Idomemeo
DESCRIPTION:<p>&nbsp\;</p>
 <p>Host Keith Brown writes\:</p>
 <p><em>Idomeneo</em>&nbsp\;was Mozart&#39\;s first mature masterwork of opera\, first staged in Munich in 1781. I have presented <em>Idomeneo </em>four times before\, utilizing two recordings that were historic oldies-but-goodies and two that were in the newer\, historically informed practice.</p>
 
END:VEVENT
BEGIN:VEVENT
DTSTAMP;VALUE=DATE-TIME:20260422T085942Z
DTSTART;VALUE=DATE-TIME:20121009T050000Z
DTEND;VALUE=DATE-TIME:20121009T080000Z
UID:http://wwuh.org/00655-out-here-and-beyond-pat-metheny
URL;VALUE=URI:http://wwuh.org/00655-out-here-and-beyond-pat-metheny
SUMMARY:Out Here and Beyond - Pat Metheny
DESCRIPTION:<p>&nbsp\;</p>
 <p>The Pat Metheny Unity Band is performing in CT twice this week\: at the Ridgefield Playhouse on Thursday and at UConn&#39\;s Jorgensen Arts Center on Thursday\, October 11.</p>
 <p>The renowned jazz guitarist will discuss his current tour and band with Chuck Obuchowski on WWUH Tuesday\, October 9 at 10 a.m.\, during Tuesday Morning Jazz - &quot\;Out Here &amp\; Beyond.&quot\;</p>
 
END:VEVENT
BEGIN:VEVENT
DTSTAMP;VALUE=DATE-TIME:20260422T085942Z
DTSTART;VALUE=DATE-TIME:20121009T080000Z
DTEND;VALUE=DATE-TIME:20121009T083000Z
UID:http://wwuh.org/00656-new-world-notes-bummer-election
URL;VALUE=URI:http://wwuh.org/00656-new-world-notes-bummer-election
SUMMARY:New World Notes - A Bummer of an Election
DESCRIPTION:<p>&nbsp\;</p>
 <div>
 <p>This week on&nbsp\;<a href=\\"http\://newworldnotes.blogspot.com/\\" target=\\"_blank\\">New World Notes</a>\: radio program #241\, October 9\, from 12\:00 to 12\:30 p.m.\, host Kenneth Dowst looks (askance?) at the presidential election.</p>
 </div>
END:VEVENT
BEGIN:VEVENT
DTSTAMP;VALUE=DATE-TIME:20260422T085942Z
DTSTART;VALUE=DATE-TIME:20121012T153000Z
DTEND;VALUE=DATE-TIME:20121012T180000Z
UID:http://wwuh.org/00576-long-time-courting
URL;VALUE=URI:http://wwuh.org/00576-long-time-courting
SUMMARY:Long Time Courting
END:VEVENT
BEGIN:VEVENT
DTSTAMP;VALUE=DATE-TIME:20260422T085942Z
DTSTART;VALUE=DATE-TIME:20121014T090000Z
DTEND;VALUE=DATE-TIME:20121014T123000Z
UID:http://wwuh.org/00657-sunday-afternoon-opera-handel-agrippina
URL;VALUE=URI:http://wwuh.org/00657-sunday-afternoon-opera-handel-agrippina
SUMMARY:Sunday Afternoon at the Opera - Handel\: Agrippina
DESCRIPTION:<p>&nbsp\;</p>
 
END:VEVENT
BEGIN:VEVENT
DTSTAMP;VALUE=DATE-TIME:20260422T085942Z
DTSTART;VALUE=DATE-TIME:20121015T090000Z
DTEND;VALUE=DATE-TIME:20121015T120000Z
UID:http://wwuh.org/00659-watch-space-stray-birds
URL;VALUE=URI:http://wwuh.org/00659-watch-space-stray-birds
SUMMARY:Watch This Space - The Stray Birds
DESCRIPTION:<p>&nbsp\;</p>
 
END:VEVENT
BEGIN:VEVENT
DTSTAMP;VALUE=DATE-TIME:20260422T085942Z
DTSTART;VALUE=DATE-TIME:20121016T080000Z
DTEND;VALUE=DATE-TIME:20121016T090000Z
UID:http://wwuh.org/00666-new-world-notes-climate-crisis-methane
URL;VALUE=URI:http://wwuh.org/00666-new-world-notes-climate-crisis-methane
SUMMARY:New World Notes - Climate Crisis (Methane)
DESCRIPTION:<p>&nbsp\;</p>
 
END:VEVENT
BEGIN:VEVENT
DTSTAMP;VALUE=DATE-TIME:20260422T085942Z
DTSTART;VALUE=DATE-TIME:20121021T090000Z
DTEND;VALUE=DATE-TIME:20121021T123000Z
UID:http://wwuh.org/00667-sunday-afternoon-opera-shakespeare-merchant-venice
URL;VALUE=URI:http://wwuh.org/00667-sunday-afternoon-opera-shakespeare-merchant-venice
SUMMARY:Sunday Afternoon at the Opera - Shakespeare\: The Merchant of Venice
DESCRIPTION:<p>&nbsp\;</p>
 <p>Host Keith Brown writes\:</p>
 
END:VEVENT
BEGIN:VEVENT
DTSTAMP;VALUE=DATE-TIME:20260422T085942Z
DTSTART;VALUE=DATE-TIME:20121022T090000Z
DTEND;VALUE=DATE-TIME:20121022T120000Z
UID:http://wwuh.org/00670-watch-space-gretchen-peters-and-barry-walsh
URL;VALUE=URI:http://wwuh.org/00670-watch-space-gretchen-peters-and-barry-walsh
SUMMARY:Watch This Space - Gretchen Peters and Barry Walsh
DESCRIPTION:<p>&nbsp\;</p>
 
END:VEVENT
BEGIN:VEVENT
DTSTAMP;VALUE=DATE-TIME:20260422T085942Z
DTSTART;VALUE=DATE-TIME:20121023T080000Z
DTEND;VALUE=DATE-TIME:20121023T083000Z
UID:http://wwuh.org/00671-new-world-notes-dave-zirin-american-football
URL;VALUE=URI:http://wwuh.org/00671-new-world-notes-dave-zirin-american-football
SUMMARY:New World Notes - Dave Zirin on American Football
DESCRIPTION:<p>&nbsp\;</p>
 <div>
 <p>This week on&nbsp\;<a href=\\"http\://newworldnotes.blogspot.com/\\" target=\\"_blank\\">New World Notes</a>\: radio program #243\, October 23\, from 12\:00 to 12\:30 p.m.\, host Kenneth Dowst excerpts a talk by&nbsp\;Dave Zirin on American Football.</p>
 </div>
END:VEVENT
BEGIN:VEVENT
DTSTAMP;VALUE=DATE-TIME:20260422T085942Z
DTSTART;VALUE=DATE-TIME:20121028T090000Z
DTEND;VALUE=DATE-TIME:20121028T123000Z
UID:http://wwuh.org/00668-sunday-afternoon-opera-wagner-der-fliegende-holl%C3%A4nder
URL;VALUE=URI:http://wwuh.org/00668-sunday-afternoon-opera-wagner-der-fliegende-holl%C3%A4nder
SUMMARY:Sunday Afternoon at the Opera - Wagner\: Der Fliegende Holländer
DESCRIPTION:<p>&nbsp\;</p>
 <div>
 <p>Host Keith Brown writes\:</p>
 </div>
END:VEVENT
BEGIN:VEVENT
DTSTAMP;VALUE=DATE-TIME:20260422T085942Z
DTSTART;VALUE=DATE-TIME:20121030T080000Z
DTEND;VALUE=DATE-TIME:20121030T083000Z
UID:http://wwuh.org/00672-new-world-notes-surprising-power-people
URL;VALUE=URI:http://wwuh.org/00672-new-world-notes-surprising-power-people
SUMMARY:New World Notes - The Surprising Power of the People
DESCRIPTION:<p>&nbsp\;</p>
 <div>
 <p>This week on&nbsp\;<a href=\\"http\://newworldnotes.blogspot.com/\\" target=\\"_blank\\">New World Notes</a>\: radio program #243\, October 30\, from 12\:00 to 12\:30 p.m.\, host Kenneth Dowst takes an (uncharacteristically) optimisitic view of our prospects.</p>
 </div>
END:VEVENT
END:VCALENDAR
