BEGIN:VCALENDAR
VERSION:2.0
METHOD:PUBLISH
X-WR-CALNAME:wwuh.org |  August 11 2012- September 10 2012
PRODID:-//strange bird labs//Drupal iCal API//EN
BEGIN:VEVENT
DTSTAMP;VALUE=DATE-TIME:20260422T082830Z
DTSTART;VALUE=DATE-TIME:20120812T090000Z
DTEND;VALUE=DATE-TIME:20120812T123000Z
UID:http://wwuh.org/00623-sunday-afternoon-opera-campra-le-carnaval-de-venise
URL;VALUE=URI:http://wwuh.org/00623-sunday-afternoon-opera-campra-le-carnaval-de-venise
SUMMARY:Sunday Afternoon at the Opera - Campra\: Le Carnaval de Venise 
DESCRIPTION:<p>&nbsp\;</p>
 <p>Host Keith Brown writes\:</p>
 
END:VEVENT
BEGIN:VEVENT
DTSTAMP;VALUE=DATE-TIME:20260422T082830Z
DTSTART;VALUE=DATE-TIME:20120813T140000Z
DTEND;VALUE=DATE-TIME:20120813T173000Z
UID:http://wwuh.org/00627-monday-night-jazz-bushnell-park-mike-casey-quintet-followed-earl-macdonald-and-hjs-new-directi
URL;VALUE=URI:http://wwuh.org/00627-monday-night-jazz-bushnell-park-mike-casey-quintet-followed-earl-macdonald-and-hjs-new-directi
SUMMARY:Monday Night Jazz in Bushnell Park - Mike Casey Quintet followed by Earl MacDonald and the HJS New Directions Jazz Ensemble
DESCRIPTION:<p>&nbsp\;</p>
 <p>Monday\, August 13\, 2012 &ndash\; 6 p.m.&nbsp\;</p>
 <p>MONDAY NIGHT JAZZ IN BUSHNELL PARK&nbsp\;</p>
 <p>MIKE CASEY QUINTET (2011 HJS scholarship winner) (6 p.m.)</p>
 <p>EARL MACDONALD AND THE HJS NEW DIRECTIONS JAZZ ENSEMBLE (7\:30 p.m.)</p>
 <p>Presented by the&nbsp\;<a href=\\"http\://www.hartfordjazzsociety.com/index.html\\" target=\\"_blank\\">Hartford Jazz Society</a></p>
 
END:VEVENT
BEGIN:VEVENT
DTSTAMP;VALUE=DATE-TIME:20260422T082830Z
DTSTART;VALUE=DATE-TIME:20120814T080000Z
DTEND;VALUE=DATE-TIME:20120814T083000Z
UID:http://wwuh.org/00631-new-world-notes-radio-great-jean-shepherd
URL;VALUE=URI:http://wwuh.org/00631-new-world-notes-radio-great-jean-shepherd
SUMMARY:New World Notes - Radio Great Jean Shepherd
DESCRIPTION:<p>&nbsp\;</p>
 <p>This week on <a href=\\"http\://newworldnotes.blogspot.com/\\" target=\\"_blank\\">New World Notes</a>\: radio program #232\, August 14\, from 12\:00 to 12\:30 p.m.\, host Kenneth Dowst replays another of the earliest installments of New World Notes\: #52\, from February 2009.</p>
 
END:VEVENT
BEGIN:VEVENT
DTSTAMP;VALUE=DATE-TIME:20260422T082830Z
DTSTART;VALUE=DATE-TIME:20120819T090000Z
DTEND;VALUE=DATE-TIME:20120819T123000Z
UID:http://wwuh.org/00624-sunday-afternoon-opera-massenet-don-quichotte
URL;VALUE=URI:http://wwuh.org/00624-sunday-afternoon-opera-massenet-don-quichotte
SUMMARY:Sunday Afternoon at the Opera - Massenet\: Don Quichotte
DESCRIPTION:<p>&nbsp\;</p>
 <p>Host Keith Brown writes\:&nbsp\;</p>
 <p>This would otherwise be the Sunday reserved for a sentimental operetta by Lehar\, but I have something more comic\, indeed satiric in nature to delight you listeners\, with its own special tearjerking element as well.</p>
 
END:VEVENT
BEGIN:VEVENT
DTSTAMP;VALUE=DATE-TIME:20260422T082830Z
DTSTART;VALUE=DATE-TIME:20120821T080000Z
DTEND;VALUE=DATE-TIME:20120821T083000Z
UID:http://wwuh.org/00632-new-world-notes-good-guns-bad-guns
URL;VALUE=URI:http://wwuh.org/00632-new-world-notes-good-guns-bad-guns
SUMMARY:New World Notes - Good Guns\, Bad Guns 
DESCRIPTION:<p>&nbsp\;</p>
 <p>&nbsp\;</p>
 <p>This week on&nbsp\;<a href=\\"http\://newworldnotes.blogspot.com/\\" target=\\"_blank\\">New World Notes</a>\: radio program #233\, August 21\, from 12\:00 to 12\:30 p.m.\, host Kenneth Dowst takes a timely look at the controvery about gun control.</p>
 
END:VEVENT
BEGIN:VEVENT
DTSTAMP;VALUE=DATE-TIME:20260422T082830Z
DTSTART;VALUE=DATE-TIME:20120824T153000Z
DTEND;VALUE=DATE-TIME:20120824T180000Z
UID:http://wwuh.org/00609-paddy-o%E2%80%99brien-and-pat-broaders
URL;VALUE=URI:http://wwuh.org/00609-paddy-o%E2%80%99brien-and-pat-broaders
SUMMARY:Paddy O’Brien and Pat Broaders
END:VEVENT
BEGIN:VEVENT
DTSTAMP;VALUE=DATE-TIME:20260422T082830Z
DTSTART;VALUE=DATE-TIME:20120826T090000Z
DTEND;VALUE=DATE-TIME:20120826T123000Z
UID:http://wwuh.org/00625-sunday-afternoon-opera-delius-village-romeo-and-juliet
URL;VALUE=URI:http://wwuh.org/00625-sunday-afternoon-opera-delius-village-romeo-and-juliet
SUMMARY:Sunday Afternoon at the Opera - Delius\: A Village Romeo and Juliet
DESCRIPTION:<p>&nbsp\;</p>
 <p>Host Keith Brown writes\:</p>
 
END:VEVENT
BEGIN:VEVENT
DTSTAMP;VALUE=DATE-TIME:20260422T082830Z
DTSTART;VALUE=DATE-TIME:20120827T090000Z
DTEND;VALUE=DATE-TIME:20120827T120000Z
UID:http://wwuh.org/00634-watch-space-tracy-grammer
URL;VALUE=URI:http://wwuh.org/00634-watch-space-tracy-grammer
SUMMARY:Watch This Space - Tracy Grammer
DESCRIPTION:<p>&nbsp\;</p>
 <p><a href=\\"http\://www.tracygrammer.com\\" target=\\"_blank\\">Tracy Grammer</a> will visit with Susan Forbes Hansen\, host of&nbsp\;<em>Watch This Space</em>\, on Monday Aug 27\, during the first hour of the show.</p>
 <p>Don&#39\;t miss the show and the interview!</p>
 
END:VEVENT
BEGIN:VEVENT
DTSTAMP;VALUE=DATE-TIME:20260422T082830Z
DTSTART;VALUE=DATE-TIME:20120828T050000Z
DTEND;VALUE=DATE-TIME:20120828T080000Z
UID:http://wwuh.org/00636-out-here-and-beyond-chuck%E2%80%99s-25th-anniversary-special
URL;VALUE=URI:http://wwuh.org/00636-out-here-and-beyond-chuck%E2%80%99s-25th-anniversary-special
SUMMARY:Out Here and Beyond - Chuck’s 25th Anniversary Special
DESCRIPTION:<p>&nbsp\;</p>
 <p>Join Chuck Obuchowski Tuesday\, August 28\, 9 a.m. &ndash\; noon\, during Morning Jazz\: <em>Out Here &amp\; Beyond</em> for a celebration of Chuck&rsquo\;s 25th anniversary as a jazz broadcaster. He&rsquo\;ll be featuring some of his favorite jazz recordings of the past quarter-century as well as lots of other musical surprises.</p>
 
END:VEVENT
BEGIN:VEVENT
DTSTAMP;VALUE=DATE-TIME:20260422T082830Z
DTSTART;VALUE=DATE-TIME:20120828T080000Z
DTEND;VALUE=DATE-TIME:20120828T083000Z
UID:http://wwuh.org/00635-new-world-notes-things-fall-apart
URL;VALUE=URI:http://wwuh.org/00635-new-world-notes-things-fall-apart
SUMMARY:New World Notes - Things Fall Apart
DESCRIPTION:<p>&nbsp\;</p>
 <p>This week on&nbsp\;<a href=\\"http\://newworldnotes.blogspot.com/\\" target=\\"_blank\\">New World Notes</a>\: radio program #234\, August 28\, from 12\:00 to 12\:30 p.m.\, host Kenneth Dowst considers the possibility that our whole interdependent system is falling apart.</p>
 
END:VEVENT
BEGIN:VEVENT
DTSTAMP;VALUE=DATE-TIME:20260422T082830Z
DTSTART;VALUE=DATE-TIME:20120828T120000Z
DTEND;VALUE=DATE-TIME:20120828T160000Z
UID:http://wwuh.org/00633-tuesday-evening-classics-mark-ferraguto-beethoven
URL;VALUE=URI:http://wwuh.org/00633-tuesday-evening-classics-mark-ferraguto-beethoven
SUMMARY:Tuesday Evening Classics - Mark Ferraguto on Beethoven
DESCRIPTION:<p>&nbsp\;</p>
 <p>Music scholar\, and new Hartt faculty member\, Mark Ferraguto\, will join host David Schonfeld at about 6\:00 on Tuesday\, August 28 to talk&nbsp\;about his research. Mark is a keyboard player (organ\, harpsichord\, piano) and recently completed his doctoral dissertation on the orchestral music of Beethoven\, focusing on Symphony No. 4.</p>
 
END:VEVENT
BEGIN:VEVENT
DTSTAMP;VALUE=DATE-TIME:20260422T082830Z
DTSTART;VALUE=DATE-TIME:20120902T090000Z
DTEND;VALUE=DATE-TIME:20120902T123000Z
UID:http://wwuh.org/00638-sunday-opera-3-contemporary-american-chamber-operas
URL;VALUE=URI:http://wwuh.org/00638-sunday-opera-3-contemporary-american-chamber-operas
SUMMARY:Sunday at the Opera - 3 Contemporary American Chamber Operas
DESCRIPTION:<p>&nbsp\;</p>
 <p>Fussell\, <em>The Astronaut&#39\;s Tale</em></p>
 <p>Cuomo\, <em> Arjuna&#39\;s Dilemma</em></p>
 <p>Johnathan\, <em>Woody</em></p>
 <p>Host Keith Brown writes\:</p>
 
END:VEVENT
BEGIN:VEVENT
DTSTAMP;VALUE=DATE-TIME:20260422T082830Z
DTSTART;VALUE=DATE-TIME:20120904T080000Z
DTEND;VALUE=DATE-TIME:20120904T083000Z
UID:http://wwuh.org/00640-new-world-notes-police-state-usa
URL;VALUE=URI:http://wwuh.org/00640-new-world-notes-police-state-usa
SUMMARY:New World Notes - Police State USA ?
DESCRIPTION:<p>&nbsp\;</p>
 <p>This week on&nbsp\;<a href=\\"http\://newworldnotes.blogspot.com/\\" target=\\"_blank\\">New World Notes</a>\: radio program #235\, September 4\, from 12\:00 to 12\:30 p.m.\, host Kenneth Dowst asks whether the US is turning into a police state.</p>
 
END:VEVENT
BEGIN:VEVENT
DTSTAMP;VALUE=DATE-TIME:20260422T082830Z
DTSTART;VALUE=DATE-TIME:20120904T120000Z
DTEND;VALUE=DATE-TIME:20120904T160000Z
UID:http://wwuh.org/00639-tuesday-classics-john-cage-100
URL;VALUE=URI:http://wwuh.org/00639-tuesday-classics-john-cage-100
SUMMARY:Tuesday Classics - John Cage at 100
DESCRIPTION:<p>&nbsp\;</p>
 <p>Join host David Schonfeld on Tuesday\, September 4 from 4 to 8. This installment of Tuesday Classics will include a sampling of the music of John Cage\, an American original. Cage was born a hundred years ago\, on September 5\, 1912. How well do his iconoclastic compositions hold up? Listen in and decide for yourself!</p>
 
END:VEVENT
BEGIN:VEVENT
DTSTAMP;VALUE=DATE-TIME:20260422T082830Z
DTSTART;VALUE=DATE-TIME:20120909T090000Z
DTEND;VALUE=DATE-TIME:20120909T123000Z
UID:http://wwuh.org/00641-sunday-afternoon-opera-thomas-mignon
URL;VALUE=URI:http://wwuh.org/00641-sunday-afternoon-opera-thomas-mignon
SUMMARY:Sunday Afternoon at the Opera - Thomas\: Mignon
DESCRIPTION:<p>Host Keith Brown writes\:</p>
 
END:VEVENT
END:VCALENDAR
