BEGIN:VCALENDAR
VERSION:2.0
METHOD:PUBLISH
X-WR-CALNAME:wwuh.org |  July 20 2012- August 19 2012
PRODID:-//strange bird labs//Drupal iCal API//EN
BEGIN:VEVENT
DTSTAMP;VALUE=DATE-TIME:20260423T025732Z
DTSTART;VALUE=DATE-TIME:20120720T153000Z
DTEND;VALUE=DATE-TIME:20120720T180000Z
UID:http://wwuh.org/00580-girsa
URL;VALUE=URI:http://wwuh.org/00580-girsa
SUMMARY:Girsa
END:VEVENT
BEGIN:VEVENT
DTSTAMP;VALUE=DATE-TIME:20260423T025732Z
DTSTART;VALUE=DATE-TIME:20120721T110000Z
DTEND;VALUE=DATE-TIME:20120721T170000Z
UID:http://wwuh.org/00619-rumba-festival-new-england
URL;VALUE=URI:http://wwuh.org/00619-rumba-festival-new-england
SUMMARY:Rumba Festival of New England
DESCRIPTION:<p>Super Sabado is promoting the 4th Annual Rumba Festival of New England this Saturday\, July 21\, 2012\, on the grounds of The Church of The Good Shephard\, 155 Wyllys St.\, Hartford.<br />
 	&nbsp\;<br />
 	The festival runs from 3 p.m. to 9 p.m.</p>
 
END:VEVENT
BEGIN:VEVENT
DTSTAMP;VALUE=DATE-TIME:20260423T025732Z
DTSTART;VALUE=DATE-TIME:20120722T090000Z
DTEND;VALUE=DATE-TIME:20120722T123000Z
UID:http://wwuh.org/00614-sunday-afternoon-opera-mozarts-cosi-fan-tutte
URL;VALUE=URI:http://wwuh.org/00614-sunday-afternoon-opera-mozarts-cosi-fan-tutte
SUMMARY:Sunday Afternoon at the Opera - Mozart's Cosi Fan Tutte
DESCRIPTION:<p>Host Keith Brown writes\:</p>
 
END:VEVENT
BEGIN:VEVENT
DTSTAMP;VALUE=DATE-TIME:20260423T025732Z
DTSTART;VALUE=DATE-TIME:20120723T140000Z
DTEND;VALUE=DATE-TIME:20120723T173000Z
UID:http://wwuh.org/00617-monday-night-jazz-bushnell-park-dave-palla-quintet-and-onaje-allan-gumbs-quintet
URL;VALUE=URI:http://wwuh.org/00617-monday-night-jazz-bushnell-park-dave-palla-quintet-and-onaje-allan-gumbs-quintet
SUMMARY:Monday Night Jazz in Bushnell Park - Dave Palla Quintet and Onaje Allan Gumbs Quintet
DESCRIPTION:<p>&nbsp\;</p>
 <p>Monday\, July 23\, 2012 &ndash\; 6 p.m.&nbsp\;</p>
 <p>MONDAY NIGHT JAZZ IN BUSHNELL PARK&nbsp\;</p>
 <p>DAVE PALLA QUINTET (6 p.m.)&nbsp\;</p>
 <p>ONAJE ALLAN GUMBS QUINTET (7\:30 p.m.)&nbsp\;</p>
 <p>Presented by the Hartford Jazz Society</p>
 <p>Bushnell Park &ndash\; Hartford</p>
 <p>(Rainsite\: Asylum Hill Congregational Church - 814 Asylum Ave. &ndash\; Hartford)</p>
 
END:VEVENT
BEGIN:VEVENT
DTSTAMP;VALUE=DATE-TIME:20260423T025732Z
DTSTART;VALUE=DATE-TIME:20120724T080000Z
DTEND;VALUE=DATE-TIME:20120724T083000Z
UID:http://wwuh.org/00620-new-world-notes-nothing-new-under-sun-part-1
URL;VALUE=URI:http://wwuh.org/00620-new-world-notes-nothing-new-under-sun-part-1
SUMMARY:New World Notes - Nothing New Under the Sun (Part 1)
DESCRIPTION:<p>&nbsp\;</p>
 <p>This week on <a href=\\"http\://newworldnotes.blogspot.com/\\" target=\\"_blank\\">New World Notes</a>\: radio program #229\, July 24\, from 12\:00 to 12\:30 p.m.\, host Kenneth Dowst draws upon two of his favorite political thinkers to give us a lesson in history.</p>
 
END:VEVENT
BEGIN:VEVENT
DTSTAMP;VALUE=DATE-TIME:20260423T025732Z
DTSTART;VALUE=DATE-TIME:20120729T090000Z
DTEND;VALUE=DATE-TIME:20120729T123000Z
UID:http://wwuh.org/00615-sunday-afternoon-opera-very-best-gilbert-and-sullivan
URL;VALUE=URI:http://wwuh.org/00615-sunday-afternoon-opera-very-best-gilbert-and-sullivan
SUMMARY:Sunday Afternoon at the Opera - The (Very) Best of Gilbert and Sullivan
DESCRIPTION:<p>Host Keith Brown writes\:</p>
 <p>The comic operas of Gilbert and Sullivan always figure in the Summertime programming mix. Usually I present an entire operatic work from the G &amp\; S canon. This time I draw upon a two-CD Decca compilation\, issued in 2011\, that allows us to survey the whole canon\, as it was recorded in stereo sound between 1960 and 1973.</p>
 
END:VEVENT
BEGIN:VEVENT
DTSTAMP;VALUE=DATE-TIME:20260423T025732Z
DTSTART;VALUE=DATE-TIME:20120730T140000Z
DTEND;VALUE=DATE-TIME:20120730T173000Z
UID:http://wwuh.org/00618-monday-night-jazz-bushnell-park-bob-paskowitz-and-latin-quarter-then-ed-fast-and-conga-bop
URL;VALUE=URI:http://wwuh.org/00618-monday-night-jazz-bushnell-park-bob-paskowitz-and-latin-quarter-then-ed-fast-and-conga-bop
SUMMARY:Monday Night Jazz in Bushnell Park - Bob Paskowitz and Latin Quarter\, then Ed Fast and Conga Bop
DESCRIPTION:<p>Monday\, July 30\, 2012 &ndash\; 6 p.m.&nbsp\;</p>
 <p>MONDAY NIGHT JAZZ IN BUSHNELL PARK&nbsp\;</p>
 <p>BOB PASKOWITZ AND LATIN QUARTER (6 p.m.)</p>
 <p>ED FAST AND CONGA BOP (7\:30 p.m.)</p>
 <p>Presented by the <a href=\\"http\://www.hartfordjazzsociety.com/index.html\\" target=\\"_blank\\">Hartford Jazz Society</a></p>
 <p>Bushnell Park &ndash\; Hartford</p>
 
END:VEVENT
BEGIN:VEVENT
DTSTAMP;VALUE=DATE-TIME:20260423T025732Z
DTSTART;VALUE=DATE-TIME:20120731T050000Z
DTEND;VALUE=DATE-TIME:20120731T080000Z
UID:http://wwuh.org/00628-out-here-and-beyond-hot-club-detroit
URL;VALUE=URI:http://wwuh.org/00628-out-here-and-beyond-hot-club-detroit
SUMMARY:Out Here and Beyond - Hot Club of Detroit
DESCRIPTION:<p>&nbsp\;</p>
 
END:VEVENT
BEGIN:VEVENT
DTSTAMP;VALUE=DATE-TIME:20260423T025732Z
DTSTART;VALUE=DATE-TIME:20120731T080000Z
DTEND;VALUE=DATE-TIME:20120731T083000Z
UID:http://wwuh.org/00621-new-world-notes-war-language-and-media
URL;VALUE=URI:http://wwuh.org/00621-new-world-notes-war-language-and-media
SUMMARY:New World Notes - War\, Language\, and the Media
DESCRIPTION:<p>&nbsp\;</p>
 <p>This week on <a href=\\"http\://newworldnotes.blogspot.com/\\" target=\\"_blank\\">New World Notes</a>\: radio program #230\, July 31\, from 12\:00 to 12\:30 p.m.\, host Kenneth Dowst replays one of the earliest installments of New World Notes\: #10\, from April 2008. The title connects three of the series&#39\;s ongoing concerns\: war\, language\, and the media.</p>
 
END:VEVENT
BEGIN:VEVENT
DTSTAMP;VALUE=DATE-TIME:20260423T025732Z
DTSTART;VALUE=DATE-TIME:20120805T090000Z
DTEND;VALUE=DATE-TIME:20120805T123000Z
UID:http://wwuh.org/00622-sunday-afternoon-opera-haydn-lo-speziale-plus-live-aus-der-semperoper-lehar-gala-dresden
URL;VALUE=URI:http://wwuh.org/00622-sunday-afternoon-opera-haydn-lo-speziale-plus-live-aus-der-semperoper-lehar-gala-dresden
SUMMARY:Sunday Afternoon at the Opera - Haydn\: Lo Speziale plus Live aus der Semperoper\: The Lehar Gala from Dresden
DESCRIPTION:<p>&nbsp\;</p>
 <p>Host Keith Brown writes\:</p>
 
END:VEVENT
BEGIN:VEVENT
DTSTAMP;VALUE=DATE-TIME:20260423T025732Z
DTSTART;VALUE=DATE-TIME:20120806T140000Z
DTEND;VALUE=DATE-TIME:20120806T173000Z
UID:http://wwuh.org/00626-monday-night-jazz-bushnell-park-jen-allen-quintet-and-dona-carter-quintet
URL;VALUE=URI:http://wwuh.org/00626-monday-night-jazz-bushnell-park-jen-allen-quintet-and-dona-carter-quintet
SUMMARY:Monday Night Jazz in Bushnell Park - Jen Allen Quintet and Dona Carter Quintet
DESCRIPTION:<p>&nbsp\;</p>
 <p>Monday\, August 6\, 2012 &ndash\; 6 p.m.&nbsp\;</p>
 <p>MONDAY NIGHT JAZZ IN BUSHNELL PARK&nbsp\;</p>
 <p>JEN ALLEN QUINTET (6 p.m.)</p>
 <p>DONA CARTER QUINTET (7\:30 p.m.)</p>
 <p>Presented by the&nbsp\;<a href=\\"http\://www.hartfordjazzsociety.com/index.html\\" target=\\"_blank\\">Hartford Jazz Society</a></p>
 <p>Bushnell Park &ndash\; Hartford</p>
 
END:VEVENT
BEGIN:VEVENT
DTSTAMP;VALUE=DATE-TIME:20260423T025732Z
DTSTART;VALUE=DATE-TIME:20120807T050000Z
DTEND;VALUE=DATE-TIME:20120807T080000Z
UID:http://wwuh.org/00630-out-here-and-beyond-doug-morrill-and-new-haven-jazz-festival
URL;VALUE=URI:http://wwuh.org/00630-out-here-and-beyond-doug-morrill-and-new-haven-jazz-festival
SUMMARY:Out Here and Beyond - Doug Morrill and New Haven Jazz Festival
DESCRIPTION:<p>&nbsp\;</p>
 
END:VEVENT
BEGIN:VEVENT
DTSTAMP;VALUE=DATE-TIME:20260423T025732Z
DTSTART;VALUE=DATE-TIME:20120807T080000Z
DTEND;VALUE=DATE-TIME:20120807T083000Z
UID:http://wwuh.org/00629-new-world-notes-anerican-sex-and-sexuality-sorrow-and-pity
URL;VALUE=URI:http://wwuh.org/00629-new-world-notes-anerican-sex-and-sexuality-sorrow-and-pity
SUMMARY:New World Notes - Anerican Sex and Sexuality (The Sorrow and the Pity)
DESCRIPTION:<p>&nbsp\;</p>
 <p>This week on <a href=\\"http\://newworldnotes.blogspot.com/\\" target=\\"_blank\\">New World Notes</a>\: radio program #231\, August 7\, from 12\:00 to 12\:30 p.m.\, host Kenneth Dowst replays another of the earliest installments of New World Notes\: #11\, from April 2008.</p>
 
END:VEVENT
BEGIN:VEVENT
DTSTAMP;VALUE=DATE-TIME:20260423T025732Z
DTSTART;VALUE=DATE-TIME:20120812T090000Z
DTEND;VALUE=DATE-TIME:20120812T123000Z
UID:http://wwuh.org/00623-sunday-afternoon-opera-campra-le-carnaval-de-venise
URL;VALUE=URI:http://wwuh.org/00623-sunday-afternoon-opera-campra-le-carnaval-de-venise
SUMMARY:Sunday Afternoon at the Opera - Campra\: Le Carnaval de Venise 
DESCRIPTION:<p>&nbsp\;</p>
 <p>Host Keith Brown writes\:</p>
 
END:VEVENT
BEGIN:VEVENT
DTSTAMP;VALUE=DATE-TIME:20260423T025732Z
DTSTART;VALUE=DATE-TIME:20120813T140000Z
DTEND;VALUE=DATE-TIME:20120813T173000Z
UID:http://wwuh.org/00627-monday-night-jazz-bushnell-park-mike-casey-quintet-followed-earl-macdonald-and-hjs-new-directi
URL;VALUE=URI:http://wwuh.org/00627-monday-night-jazz-bushnell-park-mike-casey-quintet-followed-earl-macdonald-and-hjs-new-directi
SUMMARY:Monday Night Jazz in Bushnell Park - Mike Casey Quintet followed by Earl MacDonald and the HJS New Directions Jazz Ensemble
DESCRIPTION:<p>&nbsp\;</p>
 <p>Monday\, August 13\, 2012 &ndash\; 6 p.m.&nbsp\;</p>
 <p>MONDAY NIGHT JAZZ IN BUSHNELL PARK&nbsp\;</p>
 <p>MIKE CASEY QUINTET (2011 HJS scholarship winner) (6 p.m.)</p>
 <p>EARL MACDONALD AND THE HJS NEW DIRECTIONS JAZZ ENSEMBLE (7\:30 p.m.)</p>
 <p>Presented by the&nbsp\;<a href=\\"http\://www.hartfordjazzsociety.com/index.html\\" target=\\"_blank\\">Hartford Jazz Society</a></p>
 
END:VEVENT
BEGIN:VEVENT
DTSTAMP;VALUE=DATE-TIME:20260423T025732Z
DTSTART;VALUE=DATE-TIME:20120814T080000Z
DTEND;VALUE=DATE-TIME:20120814T083000Z
UID:http://wwuh.org/00631-new-world-notes-radio-great-jean-shepherd
URL;VALUE=URI:http://wwuh.org/00631-new-world-notes-radio-great-jean-shepherd
SUMMARY:New World Notes - Radio Great Jean Shepherd
DESCRIPTION:<p>&nbsp\;</p>
 <p>This week on <a href=\\"http\://newworldnotes.blogspot.com/\\" target=\\"_blank\\">New World Notes</a>\: radio program #232\, August 14\, from 12\:00 to 12\:30 p.m.\, host Kenneth Dowst replays another of the earliest installments of New World Notes\: #52\, from February 2009.</p>
 
END:VEVENT
END:VCALENDAR
