BEGIN:VCALENDAR
VERSION:2.0
METHOD:PUBLISH
X-WR-CALNAME:wwuh.org |  June 15 2012- July 15 2012
PRODID:-//strange bird labs//Drupal iCal API//EN
BEGIN:VEVENT
DTSTAMP;VALUE=DATE-TIME:20260423T011644Z
DTSTART;VALUE=DATE-TIME:20120612T050000Z
DTEND;VALUE=DATE-TIME:20120615T180000Z
UID:http://wwuh.org/00598-out-here-and-beyond-cookers
URL;VALUE=URI:http://wwuh.org/00598-out-here-and-beyond-cookers
SUMMARY:Out Here and Beyond - The Cookers
DESCRIPTION:<p><span style=\\"font-family\: Arial\, ' Helvetica'\, ' sans-serif'\; color\: black\; font-size\: small\; \\">WWUH&nbsp\;will be featuring interviews with two members of The Cookers this week\, in anticipation of the jazz band&#39\;s performance at The Polish National Home\, 60 Charter Oak Ave.\, Hartford on Friday\, June 15 at 7 p.m.</span></p>
 
END:VEVENT
BEGIN:VEVENT
DTSTAMP;VALUE=DATE-TIME:20260423T011644Z
DTSTART;VALUE=DATE-TIME:20120617T150000Z
DTEND;VALUE=DATE-TIME:20120617T180000Z
UID:http://wwuh.org/00597-911-explosive-evidence-experts-speak-out
URL;VALUE=URI:http://wwuh.org/00597-911-explosive-evidence-experts-speak-out
SUMMARY:9/11 Explosive Evidence\: Experts Speak Out
DESCRIPTION:<p>Architects and Engineers for 9/11 Truth has produced a new documentary\, <em>9/11 Explosive Evidence\: Experts Speak Out</em>.</p>
 <p>Richard Gage\, the organization&rsquo\;s founder\, is on a 30-city tour promoting this remarkable new film. Fortunately for Hartford-area residents\, one of his stops will be at the W.H. Town Hall on Sunday\, June 17 at 7 p.m.</p>
 
END:VEVENT
BEGIN:VEVENT
DTSTAMP;VALUE=DATE-TIME:20260423T011644Z
DTSTART;VALUE=DATE-TIME:20120619T080000Z
DTEND;VALUE=DATE-TIME:20120619T083000Z
UID:http://wwuh.org/00600-new-world-notes-be-first-your-block-reject-competition
URL;VALUE=URI:http://wwuh.org/00600-new-world-notes-be-first-your-block-reject-competition
SUMMARY:New World Notes - Be the First On Your Block to Reject Competition
DESCRIPTION:<p>This week on <a href=\\"http\://newworldnotes.blogspot.com/\\" target=\\"_blank\\">New World Notes</a>\: radio program #224\, June 19\, from 12\:00 to 12\:30 p.m.\, host Kenneth Dowst excerpts a talk given by psychology researcher and educational theorist\, Alfie Kohn.</p>
 
END:VEVENT
BEGIN:VEVENT
DTSTAMP;VALUE=DATE-TIME:20260423T011644Z
DTSTART;VALUE=DATE-TIME:20120629T153000Z
DTEND;VALUE=DATE-TIME:20120629T180000Z
UID:http://wwuh.org/00575-comas
URL;VALUE=URI:http://wwuh.org/00575-comas
SUMMARY:Comas
END:VEVENT
BEGIN:VEVENT
DTSTAMP;VALUE=DATE-TIME:20260423T011644Z
DTSTART;VALUE=DATE-TIME:20120703T050000Z
DTEND;VALUE=DATE-TIME:20120703T080000Z
UID:http://wwuh.org/00603-out-here-and-beyond-joe-palmer-yuni-mojica-and-raynel-frazier
URL;VALUE=URI:http://wwuh.org/00603-out-here-and-beyond-joe-palmer-yuni-mojica-and-raynel-frazier
SUMMARY:Out Here and Beyond - Joe Palmer\, Yuni Mojica\, and Raynel Frazier
DESCRIPTION:<p>&nbsp\;</p>
 
END:VEVENT
BEGIN:VEVENT
DTSTAMP;VALUE=DATE-TIME:20260423T011644Z
DTSTART;VALUE=DATE-TIME:20120703T080000Z
DTEND;VALUE=DATE-TIME:20120703T083000Z
UID:http://wwuh.org/00602-new-world-notes-pink-slime-meat-glue-local-blueberries-and-constitution
URL;VALUE=URI:http://wwuh.org/00602-new-world-notes-pink-slime-meat-glue-local-blueberries-and-constitution
SUMMARY:New World Notes - Pink Slime\, Meat Glue\, Local Blueberries\, and the Constitution
DESCRIPTION:<p>This week on <a href=\\"http\://newworldnotes.blogspot.com/\\" target=\\"_blank\\">New World Notes</a>\: radio program #226\, July 3\, from 12\:00 to 12\:30 p.m.\, host Kenneth Dowst examines the relation of food to democracy.</p>
 
END:VEVENT
BEGIN:VEVENT
DTSTAMP;VALUE=DATE-TIME:20260423T011644Z
DTSTART;VALUE=DATE-TIME:20120706T090000Z
DTEND;VALUE=DATE-TIME:20120706T103000Z
UID:http://wwuh.org/00601-hartford-circus-fire-documentary
URL;VALUE=URI:http://wwuh.org/00601-hartford-circus-fire-documentary
SUMMARY:Hartford Circus Fire Documentary
DESCRIPTION:<p>WWUH will replay the amazing documentary on the Hartford Circus Fire produced by volunteer Brandon Kampe at 1\:00 p.m. on Friday\, July 6\, 2012\, marking the 68th anniversary of the tragedy.</p>
 <p>To accommodate this special broadcast\, Kevin Lamkins&#39\;s Synthesis show will run from 2\:30 to 4\:00.</p>
 
END:VEVENT
BEGIN:VEVENT
DTSTAMP;VALUE=DATE-TIME:20260423T011644Z
DTSTART;VALUE=DATE-TIME:20120708T090000Z
DTEND;VALUE=DATE-TIME:20120708T123000Z
UID:http://wwuh.org/00607-sunday-afternoon-opera-offenbachs-orph%C3%A9e-aux-enfers
URL;VALUE=URI:http://wwuh.org/00607-sunday-afternoon-opera-offenbachs-orph%C3%A9e-aux-enfers
SUMMARY:Sunday Afternoon at the Opera - Offenbach's Orphée aux Enfers
DESCRIPTION:<p>Host Keith Brown writes\:</p>
 
END:VEVENT
BEGIN:VEVENT
DTSTAMP;VALUE=DATE-TIME:20260423T011644Z
DTSTART;VALUE=DATE-TIME:20120710T080000Z
DTEND;VALUE=DATE-TIME:20120710T083000Z
UID:http://wwuh.org/00605-new-world-notes-ethos-part-1
URL;VALUE=URI:http://wwuh.org/00605-new-world-notes-ethos-part-1
SUMMARY:New World Notes - Ethos (Part 1)
DESCRIPTION:<p>This week on <a href=\\"http\://newworldnotes.blogspot.com/\\" target=\\"_blank\\">New World Notes</a>\: radio program #227\, July 10\, from 12\:00 to 12\:30 p.m.\, host Kenneth Dowst excerpts quirky and interesting film by Pete McGrain on the character of our time.</p>
 
END:VEVENT
END:VCALENDAR
