BEGIN:VCALENDAR
VERSION:2.0
METHOD:PUBLISH
X-WR-CALNAME:wwuh.org |  May 22 2012- June 21 2012
PRODID:-//strange bird labs//Drupal iCal API//EN
BEGIN:VEVENT
DTSTAMP;VALUE=DATE-TIME:20260423T121853Z
DTSTART;VALUE=DATE-TIME:20120522T080000Z
DTEND;VALUE=DATE-TIME:20120522T083000Z
UID:http://wwuh.org/00585-new-world-notes-eugene-jarecki-drug-war
URL;VALUE=URI:http://wwuh.org/00585-new-world-notes-eugene-jarecki-drug-war
SUMMARY:New World Notes - Eugene Jarecki\: The Drug War
DESCRIPTION:<p>This week on <a href=\\"http\://newworldnotes.blogspot.com/\\" target=\\"_blank\\">New World Notes</a>\: radio program #220\, May 22\, from 12\:00 to 12\:30 p.m.\, host Kenneth Dowst excerpts a talk by documentary filmmaker Eugene Jarecki.</p>
 
END:VEVENT
BEGIN:VEVENT
DTSTAMP;VALUE=DATE-TIME:20260423T121853Z
DTSTART;VALUE=DATE-TIME:20120529T080000Z
DTEND;VALUE=DATE-TIME:20120529T083000Z
UID:http://wwuh.org/00593-new-world-notes-slippery-slope-memorial-day
URL;VALUE=URI:http://wwuh.org/00593-new-world-notes-slippery-slope-memorial-day
SUMMARY:New World Notes - The Slippery Slope of Memorial Day
DESCRIPTION:<p>This week on <a href=\\"http\://newworldnotes.blogspot.com/\\" target=\\"_blank\\">New World Notes</a>\: radio program #221\, May 29\, from 12\:00 to 12\:30 p.m.\, host Kenneth Dowst re-broadcasts some anti-war\, anti-militarism perspectives on Memorial Day.</p>
 <p>Kenneth Dowst offers this description\:</p>
 
END:VEVENT
BEGIN:VEVENT
DTSTAMP;VALUE=DATE-TIME:20260423T121853Z
DTSTART;VALUE=DATE-TIME:20120529T120000Z
DTEND;VALUE=DATE-TIME:20120529T160000Z
UID:http://wwuh.org/00584-tuesday-classics-carmina-burana-and-leonid-sigal
URL;VALUE=URI:http://wwuh.org/00584-tuesday-classics-carmina-burana-and-leonid-sigal
SUMMARY:Tuesday Classics - Carmina Burana and Leonid Sigal
DESCRIPTION:<p>Join Tuesday Evening Classics host David Schonfeld on May 29\, from 4 to 8 p.m.\, to hear a preview of the upcoming Hartford Symphony Orchestra concert weekend. The HSO will be playing Shostakovich&#39\;s Violin Concerto No. 1 and Carl Orff&#39\;s beloved oratorio\, <em>Carmina Burana</em>.</p>
 <p>David will play recordings of both works\, along with other attractive music during the program.</p>
 
END:VEVENT
BEGIN:VEVENT
DTSTAMP;VALUE=DATE-TIME:20260423T121853Z
DTSTART;VALUE=DATE-TIME:20120601T153000Z
DTEND;VALUE=DATE-TIME:20120601T180000Z
UID:http://wwuh.org/00574-teetotalers-martin-hayes-kevin-crawford-john-doyle
URL;VALUE=URI:http://wwuh.org/00574-teetotalers-martin-hayes-kevin-crawford-john-doyle
SUMMARY:Teetotalers (Martin Hayes\, Kevin Crawford\, John Doyle)
END:VEVENT
BEGIN:VEVENT
DTSTAMP;VALUE=DATE-TIME:20260423T121853Z
DTSTART;VALUE=DATE-TIME:20120602T110000Z
DTEND;VALUE=DATE-TIME:20120602T140000Z
UID:http://wwuh.org/00594-benefit-concert-honoring-bassist-paul-brown
URL;VALUE=URI:http://wwuh.org/00594-benefit-concert-honoring-bassist-paul-brown
SUMMARY:Benefit Concert Honoring Bassist Paul Brown
DESCRIPTION:<p>Benefit Concert Honoring Legendary Jazz Bassist Paul Brown a.k.a. &ldquo\;PB&rdquo\;.</p>
 <p>Time\: Saturday\, June 2\, 2012 at 3 p.m.</p>
 <p>Location\: Faith Congregational Church 2030 North Main Street\, Hartford CT 06120.</p>
 <p>Come join PB&rsquo\;s friends\, students and colleagues as they honor him for his many years of musical contributions to the Greater Hartford Community and the world.</p>
 
END:VEVENT
BEGIN:VEVENT
DTSTAMP;VALUE=DATE-TIME:20260423T121853Z
DTSTART;VALUE=DATE-TIME:20120604T090000Z
DTEND;VALUE=DATE-TIME:20120604T120000Z
UID:http://wwuh.org/00595-watch-space-two-musical-duos
URL;VALUE=URI:http://wwuh.org/00595-watch-space-two-musical-duos
SUMMARY:Watch This Space - Two Musical Duos
DESCRIPTION:<p>On Monday June 4\, Susan Forbes Hansen will host 2 fine musical duos.</p>
 
END:VEVENT
BEGIN:VEVENT
DTSTAMP;VALUE=DATE-TIME:20260423T121853Z
DTSTART;VALUE=DATE-TIME:20120605T080000Z
DTEND;VALUE=DATE-TIME:20120605T083000Z
UID:http://wwuh.org/00596-new-world-notes-why-factory-farming-has-got-go-first-two-parts
URL;VALUE=URI:http://wwuh.org/00596-new-world-notes-why-factory-farming-has-got-go-first-two-parts
SUMMARY:New World Notes - Why Factory Farming Has Got to Go (First of Two Parts) 
DESCRIPTION:<p>This week on <a href=\\"http\://newworldnotes.blogspot.com/\\" target=\\"_blank\\">New World Notes</a>\: radio program #222\, June 5\, from 12\:00 to 12\:30 p.m.\, host Kenneth Dowst excerpts a talk given by writer Michael Pollan.</p>
 
END:VEVENT
BEGIN:VEVENT
DTSTAMP;VALUE=DATE-TIME:20260423T121853Z
DTSTART;VALUE=DATE-TIME:20120612T050000Z
DTEND;VALUE=DATE-TIME:20120615T180000Z
UID:http://wwuh.org/00598-out-here-and-beyond-cookers
URL;VALUE=URI:http://wwuh.org/00598-out-here-and-beyond-cookers
SUMMARY:Out Here and Beyond - The Cookers
DESCRIPTION:<p><span style=\\"font-family\: Arial\, ' Helvetica'\, ' sans-serif'\; color\: black\; font-size\: small\; \\">WWUH&nbsp\;will be featuring interviews with two members of The Cookers this week\, in anticipation of the jazz band&#39\;s performance at The Polish National Home\, 60 Charter Oak Ave.\, Hartford on Friday\, June 15 at 7 p.m.</span></p>
 
END:VEVENT
BEGIN:VEVENT
DTSTAMP;VALUE=DATE-TIME:20260423T121853Z
DTSTART;VALUE=DATE-TIME:20120612T080000Z
DTEND;VALUE=DATE-TIME:20120612T083000Z
UID:http://wwuh.org/00599-new-world-notes-why-factory-farming-has-got-go-second-two-parts
URL;VALUE=URI:http://wwuh.org/00599-new-world-notes-why-factory-farming-has-got-go-second-two-parts
SUMMARY:New World Notes - Why Factory Farming Has Got to Go (Second of Two Parts) 
DESCRIPTION:<p>&nbsp\;</p>
 <p>This week on&nbsp\;<a href=\\"http\://newworldnotes.blogspot.com/\\" target=\\"_blank\\">New World Notes</a>\: radio program #223\, June 12\, from 12\:00 to 12\:30 p.m.\, host Kenneth Dowst excerpts a talk given by writer Michael Pollan.</p>
 
END:VEVENT
BEGIN:VEVENT
DTSTAMP;VALUE=DATE-TIME:20260423T121853Z
DTSTART;VALUE=DATE-TIME:20120617T150000Z
DTEND;VALUE=DATE-TIME:20120617T180000Z
UID:http://wwuh.org/00597-911-explosive-evidence-experts-speak-out
URL;VALUE=URI:http://wwuh.org/00597-911-explosive-evidence-experts-speak-out
SUMMARY:9/11 Explosive Evidence\: Experts Speak Out
DESCRIPTION:<p>Architects and Engineers for 9/11 Truth has produced a new documentary\, <em>9/11 Explosive Evidence\: Experts Speak Out</em>.</p>
 <p>Richard Gage\, the organization&rsquo\;s founder\, is on a 30-city tour promoting this remarkable new film. Fortunately for Hartford-area residents\, one of his stops will be at the W.H. Town Hall on Sunday\, June 17 at 7 p.m.</p>
 
END:VEVENT
BEGIN:VEVENT
DTSTAMP;VALUE=DATE-TIME:20260423T121853Z
DTSTART;VALUE=DATE-TIME:20120619T080000Z
DTEND;VALUE=DATE-TIME:20120619T083000Z
UID:http://wwuh.org/00600-new-world-notes-be-first-your-block-reject-competition
URL;VALUE=URI:http://wwuh.org/00600-new-world-notes-be-first-your-block-reject-competition
SUMMARY:New World Notes - Be the First On Your Block to Reject Competition
DESCRIPTION:<p>This week on <a href=\\"http\://newworldnotes.blogspot.com/\\" target=\\"_blank\\">New World Notes</a>\: radio program #224\, June 19\, from 12\:00 to 12\:30 p.m.\, host Kenneth Dowst excerpts a talk given by psychology researcher and educational theorist\, Alfie Kohn.</p>
 
END:VEVENT
END:VCALENDAR
